BEGIN:VCALENDAR
VERSION:2.0
PRODID:-//Sunrise County Economic Council - ECPv6.15.20//NONSGML v1.0//EN
CALSCALE:GREGORIAN
METHOD:PUBLISH
X-ORIGINAL-URL:https://sunrisecounty.org/es/
X-WR-CALDESC:Eventos para Sunrise County Economic Council
REFRESH-INTERVAL;VALUE=DURATION:PT1H
X-Robots-Tag:noindex
X-PUBLISHED-TTL:PT1H
BEGIN:VTIMEZONE
TZID:America/New_York
BEGIN:DAYLIGHT
TZOFFSETFROM:-0500
TZOFFSETTO:-0400
TZNAME:EDT
DTSTART:20240310T070000
END:DAYLIGHT
BEGIN:STANDARD
TZOFFSETFROM:-0400
TZOFFSETTO:-0500
TZNAME:EST
DTSTART:20241103T060000
END:STANDARD
BEGIN:DAYLIGHT
TZOFFSETFROM:-0500
TZOFFSETTO:-0400
TZNAME:EDT
DTSTART:20250309T070000
END:DAYLIGHT
BEGIN:STANDARD
TZOFFSETFROM:-0400
TZOFFSETTO:-0500
TZNAME:EST
DTSTART:20251102T060000
END:STANDARD
BEGIN:DAYLIGHT
TZOFFSETFROM:-0500
TZOFFSETTO:-0400
TZNAME:EDT
DTSTART:20260308T070000
END:DAYLIGHT
BEGIN:STANDARD
TZOFFSETFROM:-0400
TZOFFSETTO:-0500
TZNAME:EST
DTSTART:20261101T060000
END:STANDARD
END:VTIMEZONE
BEGIN:VEVENT
DTSTART;TZID=America/New_York:20251206T140000
DTEND;TZID=America/New_York:20251206T160000
DTSTAMP:20260421T093213
CREATED:20251125T185444Z
LAST-MODIFIED:20251125T190429Z
UID:17179-1765029600-1765036800@sunrisecounty.org
SUMMARY:Entrepreneur Spotlight Series: Decoración de Cupcakes con Sarah's Specialty Cakes
DESCRIPTION:🌟 ¡Nueva serie de talleres para destacar a los empresarios locales! 🌟 \nMaineStreet Business Building lanza una nueva serie diseñada para destacar a los empresarios locales y ofrecer a nuestra comunidad oportunidades de aprendizaje prácticas y divertidas. Damos el pistoletazo de salida a la serie con Sarah Reed\, de Mrs Sarah’s Specialty Cakes.  \n🎄 ¡Únete a Sarah para decorar magdalenas navideñas! 🎄\nAprende trucos geniales de decoración y convierte sencillos cupcakes en obras maestras festivas. Tanto si eres un novato como un profesional de la decoración\, ¡prepárate para espolvorear diversión estas fiestas!  \nLos participantes aprenderán a escarchar y decorar cuatro cupcakes inspirados en las fiestas para llevárselos a casa. No es necesario tener experiencia. Se proporcionarán todos los materiales.   \n📅 Sábado\, 6 de diciembre\n⏰ 2:00-4:00 PM\n📍 MaineStreet Business Building\, 19 Main St.\, Machias\n💵 $45 (todos los materiales incluidos) \n¡Las plazas son limitadas! ¡Apúntate hoy y dale un poco más de alegría a tus fiestas! ❄️✨   \n👉 Regístrate en bit.ly/msbbseries
URL:https://sunrisecounty.org/es/event/entrepreneur-spotlight-series-decoracion-de-cupcakes-con-sarahs-specialty-cakes/
LOCATION:MaineStreet Business Building\, 19 Main St.\, Machias\, ME\, 04619\, United States
CATEGORIES:Serie "Empresario destacado
ORGANIZER;CN="MaineStreet Business Building":MAILTO:info@mainestreetbusiness.org
END:VEVENT
BEGIN:VEVENT
DTSTART;TZID=America/New_York:20251210T173000
DTEND;TZID=America/New_York:20251210T200000
DTSTAMP:20260421T093213
CREATED:20251110T173426Z
LAST-MODIFIED:20251110T200512Z
UID:17140-1765387800-1765396800@sunrisecounty.org
SUMMARY:Plan Maestro de la Bahía de Upper Machias: Reunión pública nº 3
DESCRIPTION:Participa en la planificación de un futuro saludable\, resistente y próspero para la Bahía Superior de Machias. \nAcompáñanos en las presentaciones y debates sobre las inundaciones y la calidad del agua en el centro de la ciudad. Comparte tus ideas\, preguntas y preocupaciones. \n¡Habrá cena y cuidado de niños! \nPor favor\, confirma tu asistencia visitando bit.ly/umbmprsvp \nEsta es la tercera en una serie de reuniones públicas. La próxima reunión será el 12 de enero.  \nPara más información sobre el proyecto\, visita: sunrisecounty.org/machiasbay
URL:https://sunrisecounty.org/es/event/plan-maestro-de-la-bahia-de-upper-machias-reunion-publica-no-3/
LOCATION:Lee Pellon Center\, 90 Main Street\, Machias\, ME\, 04654\, United States
CATEGORIES:Conversaciones comunitarias,Para los municipios
END:VEVENT
BEGIN:VEVENT
DTSTART;TZID=America/New_York:20251213T140000
DTEND;TZID=America/New_York:20251213T160000
DTSTAMP:20260421T093213
CREATED:20251204T165457Z
LAST-MODIFIED:20251211T204043Z
UID:17257-1765634400-1765641600@sunrisecounty.org
SUMMARY:*Posponed* Entrepreneur Spotlight Series: Descascarado de Ostras con Three Islands Oysters
DESCRIPTION:¡Aprende el arte del pelado de ostras y descubre el fascinante mundo de la ostricultura!\n\nCada participante recibirá una docena de ostras frescas\, un cuchillo para ostras\, condimentos y guantes\, y aprenderá a desgranar ostras frescas de la mano de Kyle Pepperman\, de Three Islands Oysters y Downeast Institute.\n\nNo es necesaria experiencia. Se proporcionarán todos los materiales. El coste incluye una docena de ostras\, cuchillo para ostras\, condimentos y guante.  \n\n*Este acto ha sido aplazado. Permanece atento a la nueva fecha.
URL:https://sunrisecounty.org/es/event/entrepreneur-spotlight-series-descascarando-ostras-con-three-islands-oysters/
LOCATION:MaineStreet Business Building\, 19 Main St.\, Machias\, ME\, 04619\, United States
CATEGORIES:Serie "Empresario destacado
ORGANIZER;CN="MaineStreet Business Building":MAILTO:info@mainestreetbusiness.org
END:VEVENT
BEGIN:VEVENT
DTSTART;TZID=America/New_York:20251219T120000
DTEND;TZID=America/New_York:20251219T130000
DTSTAMP:20260421T093213
CREATED:20251209T181348Z
LAST-MODIFIED:20251209T181348Z
UID:17277-1766145600-1766149200@sunrisecounty.org
SUMMARY:Curso acelerado de ciberseguridad (vía Zoom)
DESCRIPTION:🔒 ¡Protégete en Internet! 🔒 \nAcompáñanos en un Curso acelerado de Ciberseguridad GRATUITO con Elaine Abbott\, Coordinadora Regional de Banda Ancha del SCEC. \nDetalles:\n📅 Viernes\, 19 de diciembre\n🕐 12:00 – 13:00\n💻 Vía Zoom (regístrate en bit.ly/scec-crash-course para recibir el enlace) \nAprende habilidades esenciales para protegerte de:\n✅ Estafas de suplantación de identidad\n✅ Vulnerabilidades de contraseña\n✅ Fraude en línea\n✅ ¡Y mucho más! \nTanto si eres un novato digital como si sólo quieres repasar tus conocimientos sobre seguridad\, esta sesión de una hora es perfecta para todos. \n🔗 Inscríbete ahora: bit.ly/scec-crash-course \nEsta formación gratuita la imparte el Consejo Económico del Condado de Sunrise y la financia la Autoridad de Conectividad de Maine. \n  \n 
URL:https://sunrisecounty.org/es/event/curso-acelerado-de-ciberseguridad-via-zoom/
LOCATION:Online via Zoom
CATEGORIES:Seminarios en línea
END:VEVENT
END:VCALENDAR