BEGIN:VCALENDAR
VERSION:2.0
PRODID:-//Sunrise County Economic Council - ECPv6.15.20//NONSGML v1.0//EN
CALSCALE:GREGORIAN
METHOD:PUBLISH
X-WR-CALNAME:Sunrise County Economic Council
X-ORIGINAL-URL:https://sunrisecounty.org/es/
X-WR-CALDESC:Eventos para Sunrise County Economic Council
REFRESH-INTERVAL;VALUE=DURATION:PT1H
X-Robots-Tag:noindex
X-PUBLISHED-TTL:PT1H
BEGIN:VTIMEZONE
TZID:America/New_York
BEGIN:DAYLIGHT
TZOFFSETFROM:-0500
TZOFFSETTO:-0400
TZNAME:EDT
DTSTART:20240310T070000
END:DAYLIGHT
BEGIN:STANDARD
TZOFFSETFROM:-0400
TZOFFSETTO:-0500
TZNAME:EST
DTSTART:20241103T060000
END:STANDARD
BEGIN:DAYLIGHT
TZOFFSETFROM:-0500
TZOFFSETTO:-0400
TZNAME:EDT
DTSTART:20250309T070000
END:DAYLIGHT
BEGIN:STANDARD
TZOFFSETFROM:-0400
TZOFFSETTO:-0500
TZNAME:EST
DTSTART:20251102T060000
END:STANDARD
BEGIN:DAYLIGHT
TZOFFSETFROM:-0500
TZOFFSETTO:-0400
TZNAME:EDT
DTSTART:20260308T070000
END:DAYLIGHT
BEGIN:STANDARD
TZOFFSETFROM:-0400
TZOFFSETTO:-0500
TZNAME:EST
DTSTART:20261101T060000
END:STANDARD
END:VTIMEZONE
BEGIN:VEVENT
DTSTART;TZID=America/New_York:20251002T080000
DTEND;TZID=America/New_York:20251002T170000
DTSTAMP:20260421T131358
CREATED:20250902T015710Z
LAST-MODIFIED:20250902T015710Z
UID:16661-1759392000-1759424400@sunrisecounty.org
SUMMARY:Propuesta de valor y cultura intencional desde el principio
DESCRIPTION:Propuesta de valor: ¿Qué hace que tu empresa sea única?  te enseñará a articular lo que diferencia a tu empresa de la competencia. Este taller te ayudará a identificar y comunicar tu propuesta de valor única a los clientes potenciales. Con Sam Miller de SCORE Mentors.   \nInscríbete para asistir a este taller \nLuego\, en Cultura intencionada desde el principio: Construye un Entorno de Trabajo Saludable\, aprenderás la importancia de la cultura empresarial y cómo crear un entorno de trabajo positivo y productivo desde el primer día. Aprende estrategias para cultivar una cultura que se alinee con los valores de tu empresa. Con Abby Frutchey y Charley Martin-Berry de Community Caring Collaborative.   \nInscríbete para asistir a este taller \nQuieres cursar Caminos 1.0: Exploración de Empresas para obtener créditos universitarios? ¡Rellena el Formulario de Inscripción de MSBB y el Formulario de Inscripción de WCCC para acceder a todos los talleres!
URL:https://sunrisecounty.org/es/event/propuesta-de-valor-y-cultura-intencional-desde-el-principio/
LOCATION:Online via Zoom
CATEGORIES:Caminos 1.0,Formación empresarial
END:VEVENT
BEGIN:VEVENT
DTSTART;TZID=America/New_York:20251006T140000
DTEND;TZID=America/New_York:20251006T150000
DTSTAMP:20260421T131358
CREATED:20250925T164357Z
LAST-MODIFIED:20250925T164357Z
UID:16861-1759759200-1759762800@sunrisecounty.org
SUMMARY:Conoce el edificio empresarial MaineStreet
DESCRIPTION:Conoce la MSBB\nConoce al personal de MaineStreet Business Building y entérate de los servicios que cada uno presta (la mayoría sin coste alguno) a los residentes\, empresarios y emprendedores del condado de Washington. \nLos servicios disponibles incluyen:\n– Asesoramiento empresarial\n– Cursos y talleres para pequeñas empresas\n– Asistencia tecnológica\n– Servicios de transición empresarial\n– Asistencia en programas de subvenciones y préstamos\n– Orientación sobre la Recuperación del Condado de Washington\n– Red de Lugares de Trabajo Amigables\n– Ayuda para conseguir contratos federales para tus\nproductos o servicios\n– Formación laboral y créditos universitarios \n¡Inscríbete aquí!
URL:https://sunrisecounty.org/es/event/conoce-el-edificio-empresarial-mainestreet/
LOCATION:Online via Zoom
CATEGORIES:Horario de atención al público,Recursos empresariales
ORGANIZER;CN="MaineStreet Business Building":MAILTO:info@mainestreetbusiness.org
END:VEVENT
BEGIN:VEVENT
DTSTART;TZID=America/New_York:20251009T140000
DTEND;TZID=America/New_York:20251009T170000
DTSTAMP:20260421T131358
CREATED:20250902T015944Z
LAST-MODIFIED:20250902T015944Z
UID:16664-1760018400-1760029200@sunrisecounty.org
SUMMARY:Conoce a tu cliente ideal y la alineación entre misión y visión
DESCRIPTION:14:00 – 15:30 \nEn Conoce a tu cliente ideal: Plan de Marketing 101\, desarrollarás un plan de marketing integral adaptado a tu público objetivo. Aprende a realizar estudios de mercado\, identificar las necesidades de los clientes y crear campañas de marketing eficaces.  \nInscríbete para asistir a este taller \n15:45 – 17:00 \nLuego\, en Alineación de Misión\, Claridad y Visión: Define tu camino\, elaborarás una declaración de misión y una visión convincentes para tu empresa. Comprende la importancia de estos principios rectores y cómo pueden dar forma a tu estrategia empresarial.  \nInscríbete para asistir a este taller \nQuieres cursar Caminos 1.0: Exploración de Empresas para obtener créditos universitarios? ¡Rellena el Formulario de Inscripción de MSBB y el Formulario de Inscripción de WCCC para acceder a todos los talleres!
URL:https://sunrisecounty.org/es/event/conoce-a-tu-cliente-ideal-y-la-alineacion-entre-mision-y-vision/
LOCATION:Online via Zoom
CATEGORIES:Caminos 1.0,Formación empresarial
END:VEVENT
BEGIN:VEVENT
DTSTART;TZID=America/New_York:20251016T100000
DTEND;TZID=America/New_York:20251016T140000
DTSTAMP:20260421T131358
CREATED:20250925T164039Z
LAST-MODIFIED:20250925T164039Z
UID:16853-1760608800-1760623200@sunrisecounty.org
SUMMARY:Foro familiar de pesca de Downeast
DESCRIPTION:1er Foro Anual Familiar de Pesca de Downeast \nJueves\, 16 de octubre de 2025\, de 10 a 14 h \nCentro de Eventos Woodlawn\, Ellsworth \nRegístrate aquí \nEn la última década\, las familias de pescadores de Maine se han enfrentado a tiempos difíciles\, y hemos tenido que apoyarnos en la increíble fuerza de nuestras comunidades. Como miembros de familias de pescadores que somos\, nos hemos enfrentado al miedo a perder una industria de la que nuestras comunidades han dependido durante generaciones. Nos hemos enfrentado al dolor de reunirnos una y otra vez para buscar a seres queridos perdidos en el mar. También sabemos que la resiliencia es muy profunda en nuestras familias y comunidades\, y que seguiremos apoyándonos unos a otros y continuaremos adelante\, juntos.    \nPor eso organizamos el Primer Foro Anual de Familias Pescadoras\, un encuentro para que las familias de pescadores de la costa Downeast de Maine se conecten\, compartan y hablen de lo que más importa\, como: La seguridad en el agua\, la salud y el bienestar de los pescadores\, el apoyo a la salud mental\, la respuesta de la comunidad en caso de emergencia\, la educación financiera y la estabilidad familiar.
URL:https://sunrisecounty.org/es/event/foro-familiar-de-pesca-de-downeast/
LOCATION:Woodlawn\, 19 Black House Drive\, Ellsworth\, 04605\, United States
CATEGORIES:Conversaciones comunitarias,Frente marítimo de trabajo
END:VEVENT
BEGIN:VEVENT
DTSTART;TZID=America/New_York:20251016T140000
DTEND;TZID=America/New_York:20251016T170000
DTSTAMP:20260421T131358
CREATED:20250902T020538Z
LAST-MODIFIED:20250902T020538Z
UID:16671-1760623200-1760634000@sunrisecounty.org
SUMMARY:Conceptos básicos de marca y análisis DAFO
DESCRIPTION:14:00 – 15:30 h: \nEn Conceptos básicos de la marca: ¿Cuál es la personalidad de tu empresa? descubrirás cómo desarrollar una fuerte identidad de marca que resuene con tu público objetivo. Trataremos aspectos básicos de la marca\, como el diseño del logotipo\, la combinación de colores y los mensajes de la marca.  \nInscríbete para asistir a este taller \n15:45 – 17:00 h: \nLuego\, en Análisis DAFO: Evalúa el panorama de tu empresa\, realizarás un análisis DAFO para identificar los puntos fuertes\, las debilidades\, las oportunidades y las amenazas de tu empresa. Utiliza esta poderosa herramienta para tomar decisiones estratégicas con conocimiento de causa.  \nInscríbete para asistir a este taller \nQuieres cursar Caminos 1.0: Exploración de Empresas para obtener créditos universitarios? Rellena el Formulario de Inscripción del MSBB y el Formulario de Inscripción del WCCC
URL:https://sunrisecounty.org/es/event/conceptos-basicos-de-marca-y-analisis-dafo/
LOCATION:Online via Zoom
CATEGORIES:Caminos 1.0,Formación empresarial
END:VEVENT
BEGIN:VEVENT
DTSTART;TZID=America/New_York:20251017T173000
DTEND;TZID=America/New_York:20251017T200000
DTSTAMP:20260421T131358
CREATED:20251017T195619Z
LAST-MODIFIED:20251017T195619Z
UID:16976-1760722200-1760731200@sunrisecounty.org
SUMMARY:Reunión pública del Plan Maestro de la Bahía de Upper Machias
DESCRIPTION:Participa en la planificación de un futuro saludable\, resistente y próspero para la Bahía Superior de Machias. Acompáñanos en las presentaciones y debates sobre las opciones de sustitución del dique.  \nComparte tus ideas\, preguntas y preocupaciones. ¡Habrá cena y cuidado de niños! Esta es la 2ª de una serie de reuniones públicas para este proyecto. \nRegístrate aquí
URL:https://sunrisecounty.org/es/event/reunion-publica-del-plan-maestro-de-la-bahia-de-upper-machias/
LOCATION:Lee Pellon Center\, 90 Main Street\, Machias\, ME\, 04654\, United States
CATEGORIES:Conversaciones comunitarias,Recursos municipales
END:VEVENT
BEGIN:VEVENT
DTSTART;TZID=America/New_York:20251018T110000
DTEND;TZID=America/New_York:20251018T150000
DTSTAMP:20260421T131358
CREATED:20251017T200016Z
LAST-MODIFIED:20251017T200016Z
UID:16982-1760785200-1760799600@sunrisecounty.org
SUMMARY:¡Futuros Fintásticos!
DESCRIPTION:
URL:https://sunrisecounty.org/es/event/futuros-fintasticos/
LOCATION:Instituto Shead\, Calle Mayor 89\, Eastport\, Maine\, 04631
CATEGORIES:Conversaciones comunitarias,Feria de Recursos,Recursos agrícolas,Recursos empresariales,Recursos para pequeñas empresas
END:VEVENT
BEGIN:VEVENT
DTSTART;TZID=America/New_York:20251023T140000
DTEND;TZID=America/New_York:20251023T170000
DTSTAMP:20260421T131358
CREATED:20250902T020817Z
LAST-MODIFIED:20250902T020817Z
UID:16674-1761228000-1761238800@sunrisecounty.org
SUMMARY:Todo lo legal
DESCRIPTION:14:00 – 15:30 h: \nEn Todo lo Legal: Navegar por el panorama legal en la puesta en marcha\, te familiarizarás con los aspectos legales de la puesta en marcha de una empresa. Este taller abarca las licencias comerciales\, los permisos\, las leyes de zonificación y otros requisitos legales. Aprende las distinciones legales entre contratistas independientes y empleados. Comprende las implicaciones para la contratación\, los impuestos y el cumplimiento para asegurarte de que cumples la ley.    \nInscríbete para asistir a este taller \n15:45 – 17:00 h: \nA continuación\, en Todo lo Legal: Fundamentos de la contratación\, aprenderás las distinciones legales entre contratistas independientes y empleados. Comprende las implicaciones para la contratación\, los impuestos y el cumplimiento para asegurarte de que cumples la ley.  \nInscríbete para asistir a este taller
URL:https://sunrisecounty.org/es/event/todo-lo-legal/
LOCATION:Online via Zoom
CATEGORIES:Caminos 1.0,Formación empresarial
END:VEVENT
BEGIN:VEVENT
DTSTART;TZID=America/New_York:20251027T173000
DTEND;TZID=America/New_York:20251027T203000
DTSTAMP:20260421T131358
CREATED:20250925T163702Z
LAST-MODIFIED:20250925T163702Z
UID:16846-1761586200-1761597000@sunrisecounty.org
SUMMARY:Taller sobre costas resilientes
DESCRIPTION:Alrededor de un tercio de las 5.408 millas de costa de Maine son acantilados\, y propensos a la erosión. Las comunidades de las costas del condado de Washington están sufriendo la erosión de los acantilados tanto por las fuertes tormentas invernales como por las intensas lluvias estivales.  \nAunque la erosión de los acantilados es natural\, para los propietarios puede ser devastadora. Sin embargo\, las estrategias que aprovechan las fuerzas naturales pueden frenar la erosión de los acantilados Utilizándolas\, los propietarios pueden crear costas sanas y naturales que respondan a la subida del nivel del mar y a las tormentas intensas.  \nPara ayudar a los propietarios a gestionar los acantilados\, el Consejo Económico del Condado de Sunrise y el Programa Costero de Maine organizarán una serie de talleres sobre costas resilientes en Machias el 27 de octubre a las 17:30 en el Centro Lee-Pellon. \nEl taller gratuito reunirá a geólogos costeros\, científicos\, revisores de permisos de agencias estatales y contratistas locales para ayudar a los asistentes a comprender la gestión de la erosión costera. Al final del taller\, los asistentes tienen la opción de quedarse durante las horas de consulta gratuita para recibir evaluaciones de 15 minutos sobre la línea de costa por parte de expertos y profesionales locales.  \nEste taller está dirigido a propietarios\, administradores de fincas\, responsables municipales y agentes inmobiliarios. \nSe servirá una cena ligera.  Por favor\, ¡inscríbete aquí!
URL:https://sunrisecounty.org/es/event/taller-sobre-costas-resilientes/
LOCATION:Lee Pellon Center\, 90 Main Street\, Machias\, ME\, 04654\, United States
CATEGORIES:Formación,Para los municipios,Recursos municipales
END:VEVENT
BEGIN:VEVENT
DTSTART;TZID=America/New_York:20251030T140000
DTEND;TZID=America/New_York:20251030T170000
DTSTAMP:20260421T131358
CREATED:20250902T020943Z
LAST-MODIFIED:20250902T020943Z
UID:16677-1761832800-1761843600@sunrisecounty.org
SUMMARY:Fijar el precio de tus productos y servicios y los gastos iniciales
DESCRIPTION:14:00 – 15:30 h: \nEn Poner precio a tus productos y servicios: Encuentra el punto óptimo\, dominarás el arte de la fijación de precios. Esta sesión abarcará diversas estrategias de fijación de precios\, cómo calcular los costes y cómo fijar el precio de tus productos o servicios para maximizar la rentabilidad.  \nInscríbete para asistir a este taller \n15:45 – 17:00 h: \nA continuación\, en Gastos de puesta en marcha: Presupuesto para el éxito\, conocerás los costes asociados a la puesta en marcha de una empresa. Aprende a crear un presupuesto inicial\, a gestionar los gastos y a asignar los recursos de forma eficaz.  \nInscríbete para asistir a este taller
URL:https://sunrisecounty.org/es/event/fijar-el-precio-de-tus-productos-y-servicios-y-los-gastos-iniciales/
LOCATION:Online via Zoom
CATEGORIES:Caminos 1.0,Formación empresarial
END:VEVENT
END:VCALENDAR