BEGIN:VCALENDAR
VERSION:2.0
PRODID:-//Sunrise County Economic Council - ECPv6.15.20//NONSGML v1.0//EN
CALSCALE:GREGORIAN
METHOD:PUBLISH
X-WR-CALNAME:Sunrise County Economic Council
X-ORIGINAL-URL:https://sunrisecounty.org/es/
X-WR-CALDESC:Eventos para Sunrise County Economic Council
REFRESH-INTERVAL;VALUE=DURATION:PT1H
X-Robots-Tag:noindex
X-PUBLISHED-TTL:PT1H
BEGIN:VTIMEZONE
TZID:America/New_York
BEGIN:DAYLIGHT
TZOFFSETFROM:-0500
TZOFFSETTO:-0400
TZNAME:EDT
DTSTART:20240310T070000
END:DAYLIGHT
BEGIN:STANDARD
TZOFFSETFROM:-0400
TZOFFSETTO:-0500
TZNAME:EST
DTSTART:20241103T060000
END:STANDARD
BEGIN:DAYLIGHT
TZOFFSETFROM:-0500
TZOFFSETTO:-0400
TZNAME:EDT
DTSTART:20250309T070000
END:DAYLIGHT
BEGIN:STANDARD
TZOFFSETFROM:-0400
TZOFFSETTO:-0500
TZNAME:EST
DTSTART:20251102T060000
END:STANDARD
BEGIN:DAYLIGHT
TZOFFSETFROM:-0500
TZOFFSETTO:-0400
TZNAME:EDT
DTSTART:20260308T070000
END:DAYLIGHT
BEGIN:STANDARD
TZOFFSETFROM:-0400
TZOFFSETTO:-0500
TZNAME:EST
DTSTART:20261101T060000
END:STANDARD
END:VTIMEZONE
BEGIN:VEVENT
DTSTART;TZID=America/New_York:20250918T140000
DTEND;TZID=America/New_York:20250918T170000
DTSTAMP:20260421T150047
CREATED:20250902T014710Z
LAST-MODIFIED:20250902T020125Z
UID:16655-1758204000-1758214800@sunrisecounty.org
SUMMARY:Introducción al Trabajo Autónomo y Buenas Prácticas para el Éxito de una Startup
DESCRIPTION:14:00 – 15:30 h: \nEn Introducción al Trabajo Autónomo: La mentalidad emprendedora\, descubrirás lo que significa realmente ser tu propio jefe. Exploraremos la mentalidad empresarial\, las ventajas y los retos del autoempleo\, y cómo decidir si este camino es el adecuado para ti.  \nInscríbete para asistir a este taller \n15:45 – 17:00 h: \nA continuación\, en Las mejores prácticas para el éxito de una startup: Aprende de los profesionales\, nos sumergiremos en las prácticas esenciales por las que apuestan los emprendedores de éxito. Desde la validación de la idea hasta la ejecución\, te daremos consejos para evitar los errores más comunes y preparar tu negocio para el éxito.  \nInscríbete para asistir a este taller \n\n\n\n\n\n\n\n\nQuieres cursar Caminos 1.0: Exploración de Empresas para obtener créditos universitarios? ¡Rellena el Formulario de Inscripción de MSBB y el Formulario de Inscripción de WCCC para acceder a todos los talleres!
URL:https://sunrisecounty.org/es/event/introduccion-al-trabajo-autonomo-y-buenas-practicas-para-el-exito-de-una-startup/
LOCATION:Online via Zoom
CATEGORIES:Caminos 1.0,Formación empresarial
END:VEVENT
BEGIN:VEVENT
DTSTART;TZID=America/New_York:20250925T140000
DTEND;TZID=America/New_York:20250925T170000
DTSTAMP:20260421T150047
CREATED:20250902T015041Z
LAST-MODIFIED:20250902T020101Z
UID:16657-1758808800-1758819600@sunrisecounty.org
SUMMARY:Business Building Blocks & Start Up and Lead
DESCRIPTION:14:00 – 15:30 h: \nEn Business Building Blocks: Empecemos\, sentarás las bases de tu negocio. Esta sesión abarca los pasos iniciales para poner en marcha un negocio\, incluida la generación de ideas\, la investigación de mercado y la formación de tu entidad empresarial.  \nInscríbete para asistir a este taller \n15:45 – 17:00 h: \nEn Emprender y Dirigir con Confianza: Estrategias y Oportunidades de Gestión\, explorarás diversas estrategias de gestión y encontrarás la que mejor se adapte a tu negocio. Aprenderás a crear un equipo fuerte\, delegar con eficacia y fomentar un entorno de trabajo positivo.  \nInscríbete para asistir a este taller \nQuieres cursar Caminos 1.0: Exploración de Empresas para obtener créditos universitarios? ¡Rellena el Formulario de Inscripción de MSBB y el Formulario de Inscripción de WCCC para acceder a todos los talleres!
URL:https://sunrisecounty.org/es/event/business-building-blocks-start-up-and-lead/
LOCATION:Online via Zoom
CATEGORIES:Caminos 1.0,Formación empresarial
END:VEVENT
END:VCALENDAR