BEGIN:VCALENDAR
VERSION:2.0
PRODID:-//Sunrise County Economic Council - ECPv6.15.20//NONSGML v1.0//EN
CALSCALE:GREGORIAN
METHOD:PUBLISH
X-WR-CALNAME:Sunrise County Economic Council
X-ORIGINAL-URL:https://sunrisecounty.org
X-WR-CALDESC:Events for Sunrise County Economic Council
REFRESH-INTERVAL;VALUE=DURATION:PT1H
X-Robots-Tag:noindex
X-PUBLISHED-TTL:PT1H
BEGIN:VTIMEZONE
TZID:America/New_York
BEGIN:DAYLIGHT
TZOFFSETFROM:-0500
TZOFFSETTO:-0400
TZNAME:EDT
DTSTART:20240310T070000
END:DAYLIGHT
BEGIN:STANDARD
TZOFFSETFROM:-0400
TZOFFSETTO:-0500
TZNAME:EST
DTSTART:20241103T060000
END:STANDARD
BEGIN:DAYLIGHT
TZOFFSETFROM:-0500
TZOFFSETTO:-0400
TZNAME:EDT
DTSTART:20250309T070000
END:DAYLIGHT
BEGIN:STANDARD
TZOFFSETFROM:-0400
TZOFFSETTO:-0500
TZNAME:EST
DTSTART:20251102T060000
END:STANDARD
BEGIN:DAYLIGHT
TZOFFSETFROM:-0500
TZOFFSETTO:-0400
TZNAME:EDT
DTSTART:20260308T070000
END:DAYLIGHT
BEGIN:STANDARD
TZOFFSETFROM:-0400
TZOFFSETTO:-0500
TZNAME:EST
DTSTART:20261101T060000
END:STANDARD
END:VTIMEZONE
BEGIN:VEVENT
DTSTART;TZID=America/New_York:20250218T130000
DTEND;TZID=America/New_York:20250218T170000
DTSTAMP:20260423T104509
CREATED:20250206T175519Z
LAST-MODIFIED:20250213T145139Z
UID:15599-1739883600-1739898000@sunrisecounty.org
SUMMARY:Alternative Lobster Fishing Gear Demonstration (Jonesport)
DESCRIPTION:Details: \n\nLive demonstrations and discussion around alternative lobster fishing gear\nFebruary 18\, 2025 from 1-5 pm\nOpen to area fishermen and the public; hosted by SCEC and the Maine Department of Marine Resources\nCome anytime between 1 and 5 pm\nNo cost to participate\n\nJonesport\, Maine – Area fishermen and members of the public are invited to an afternoon of demonstrations and informal discussion focusing on the use of alternative lobster fishing gear on February 18\, 2025 from 1-5 pm in Jonesport. The event\, hosted by Sunrise County Economic Council in partnership with the Maine Department of Marine Resources\, will include live demonstrations of alternative gear on the Jonesport town marina (2 Marina Way\, at the end of Sawyer Square) as well as simultaneous informal discussions about the program and testing of alternative gear at the Peabody Memorial Library (162 Main St\, Jonesport). Attendees are welcome to come anytime at either location between 1 and 5 pm\, as demonstrations will be based on their specific interests and needs. \nThe Jonesport demonstration day is an effort to familiarize fishermen and the public with alternative gear\, including acoustic on-demand systems as well as other technologies\, such as timed- and spring-releases. Alternative gear technology may provide an opportunity for fishermen to access areas which prohibit the use of traditional gear due to federal rules designed to protect the North Atlantic right whale.  Goals of testing and research include identifying which designs and technologies work best\, ensuring that the legal use of the gear can be enforced\, and providing information to those fishermen who will make the business decision to access those restricted areas\, or not\, in the future. \nThe Maine Department of Marine Resources is working with Sunrise County Economic Council to provide Maine fixed gear fishermen free access to different gear types to test through their Innovative Gear Library\, launched in 2024. The Library supports fishermen in real-world testing and in understanding of the capabilities and challenges of a broad range of alternative gear technologies and supports. \nParticipation by fishermen is crucial in this effort. Without industry’s participation in testing\, technology could be approved and required that does not work for Maine fishermen. This is an opportunity to provide data and input that manufacturers and regulators will hear. \nRegistration is not required to participate in the Jonesport demonstration day.  Refreshments will be provided. For questions\, please contact Brooke Hachey at 207-707-0962. Please check sunrisecounty.org and the Sunrise County Economic Council Facebook page for updates due to inclement weather. \n## \nImage above: Alternative Gear from top left\, clockwise: Gear Beacon\, Lift Bag/Acoustic Release (On-Demand)\, Stowed Rope/Acoustic Release (On-Demand)\, Timed Release
URL:https://sunrisecounty.org/event/jonesport-demonstration-day-will-focus-on-alternative-fishing-gear/
LOCATION:Jonesport\, Maine\, Jonesport
CATEGORIES:Business & Entrepreneurship Resources,Educational Resources,Small Business Resources,Working Waterfront
ATTACH;FMTTYPE=image/png:https://sunrisecounty.org/wp-content/uploads/2025/02/SCEC-DMR-POSTPONED.png
END:VEVENT
END:VCALENDAR