BEGIN:VCALENDAR
VERSION:2.0
PRODID:-//Sunrise County Economic Council - ECPv6.15.20//NONSGML v1.0//EN
CALSCALE:GREGORIAN
METHOD:PUBLISH
X-WR-CALNAME:Sunrise County Economic Council
X-ORIGINAL-URL:https://sunrisecounty.org
X-WR-CALDESC:Events for Sunrise County Economic Council
REFRESH-INTERVAL;VALUE=DURATION:PT1H
X-Robots-Tag:noindex
X-PUBLISHED-TTL:PT1H
BEGIN:VTIMEZONE
TZID:America/New_York
BEGIN:DAYLIGHT
TZOFFSETFROM:-0500
TZOFFSETTO:-0400
TZNAME:EDT
DTSTART:20230312T070000
END:DAYLIGHT
BEGIN:STANDARD
TZOFFSETFROM:-0400
TZOFFSETTO:-0500
TZNAME:EST
DTSTART:20231105T060000
END:STANDARD
BEGIN:DAYLIGHT
TZOFFSETFROM:-0500
TZOFFSETTO:-0400
TZNAME:EDT
DTSTART:20240310T070000
END:DAYLIGHT
BEGIN:STANDARD
TZOFFSETFROM:-0400
TZOFFSETTO:-0500
TZNAME:EST
DTSTART:20241103T060000
END:STANDARD
BEGIN:DAYLIGHT
TZOFFSETFROM:-0500
TZOFFSETTO:-0400
TZNAME:EDT
DTSTART:20250309T070000
END:DAYLIGHT
BEGIN:STANDARD
TZOFFSETFROM:-0400
TZOFFSETTO:-0500
TZNAME:EST
DTSTART:20251102T060000
END:STANDARD
END:VTIMEZONE
BEGIN:VEVENT
DTSTART;TZID=America/New_York:20240812T103000
DTEND;TZID=America/New_York:20240812T120000
DTSTAMP:20260423T205901
CREATED:20240722T072016Z
LAST-MODIFIED:20240722T072016Z
UID:14567-1723458600-1723464000@sunrisecounty.org
SUMMARY:Washington County's Working Waterfront
DESCRIPTION:Washington County’s Working Waterfront\nAugust 12\, 10:30 am-12 pm\nUmm Science 102 & via Zoom\nOrganized by Sunrise Senior College\nOver the past decade\, many changes have occurred at working waterfronts. Join us in finding out about the importance of lobster fishing in Washington County\, upcoming regulations around this industry and what the impacts may be from this. We will also learn about the ways in which the people of these working waterfronts can diversify their business interests and therefore increase their resilience both as a business and as a community. \nPresenters: Amanda Smith and Dodie Emerson are Business Advisors with Sunrise County Economic Council and work directly within the Working Waterfront community to assist with fostering its vitality.
URL:https://sunrisecounty.org/event/washington-countys-working-waterfront/
LOCATION:UMM\, Science 102\, 116 O'Brien Ave.\, Machias\, ME\, 4654\, United States
CATEGORIES:Business & Entrepreneurship Resources,Small Business Resources,Working Waterfront
END:VEVENT
END:VCALENDAR