BEGIN:VCALENDAR
VERSION:2.0
PRODID:-//Sunrise County Economic Council - ECPv6.15.20//NONSGML v1.0//EN
CALSCALE:GREGORIAN
METHOD:PUBLISH
X-ORIGINAL-URL:https://sunrisecounty.org
X-WR-CALDESC:Events for Sunrise County Economic Council
REFRESH-INTERVAL;VALUE=DURATION:PT1H
X-Robots-Tag:noindex
X-PUBLISHED-TTL:PT1H
BEGIN:VTIMEZONE
TZID:America/New_York
BEGIN:DAYLIGHT
TZOFFSETFROM:-0500
TZOFFSETTO:-0400
TZNAME:EDT
DTSTART:20230312T070000
END:DAYLIGHT
BEGIN:STANDARD
TZOFFSETFROM:-0400
TZOFFSETTO:-0500
TZNAME:EST
DTSTART:20231105T060000
END:STANDARD
BEGIN:DAYLIGHT
TZOFFSETFROM:-0500
TZOFFSETTO:-0400
TZNAME:EDT
DTSTART:20240310T070000
END:DAYLIGHT
BEGIN:STANDARD
TZOFFSETFROM:-0400
TZOFFSETTO:-0500
TZNAME:EST
DTSTART:20241103T060000
END:STANDARD
BEGIN:DAYLIGHT
TZOFFSETFROM:-0500
TZOFFSETTO:-0400
TZNAME:EDT
DTSTART:20250309T070000
END:DAYLIGHT
BEGIN:STANDARD
TZOFFSETFROM:-0400
TZOFFSETTO:-0500
TZNAME:EST
DTSTART:20251102T060000
END:STANDARD
END:VTIMEZONE
BEGIN:VEVENT
DTSTART;TZID=America/New_York:20240827T110000
DTEND;TZID=America/New_York:20240827T130000
DTSTAMP:20260424T214649
CREATED:20240716T064352Z
LAST-MODIFIED:20240716T064352Z
UID:14480-1724756400-1724763600@sunrisecounty.org
SUMMARY:Eastport Tech Assistance
DESCRIPTION:FREE Bi-weekly Tech Support!\nDo you need help with: \n\nRecovering your password(s)\nEmail\nAccount Recovery\nSyncing or backing up devices\nSetting up a new device\nRemote storage\nInternet access/safety\nAny other tech-related issue\n\nNo reservation required. Walk-in to the nearest library listed here to meet one-on-one with our technology specialist who can answer your questions or refer you to an appropriate resource. \nTECH SUPPORT PROVIDED BY:\nJOSHUA MEROFF FROM SUNRISE COUNTY ECONOMIC COUNCIL\, WITH SUPPORT FROM\nMAINE CONNECTIVITY AUTHORITY. QUESTIONS? CALL (207) 255-0983.
URL:https://sunrisecounty.org/event/eastport-tech-assistance-3/
LOCATION:Peavey Memorial Library\, 22 Water Street\, Eastport\, ME\, 04631\, United States
CATEGORIES:Tech Assistance
ATTACH;FMTTYPE=image/jpeg:https://sunrisecounty.org/wp-content/uploads/2024/07/Tech-Assistance-2.jpg
END:VEVENT
BEGIN:VEVENT
DTSTART;TZID=America/New_York:20240822T140000
DTEND;TZID=America/New_York:20240822T160000
DTSTAMP:20260424T214649
CREATED:20240722T153022Z
LAST-MODIFIED:20240722T153022Z
UID:14581-1724335200-1724342400@sunrisecounty.org
SUMMARY:Harrington Tech Support
DESCRIPTION:FREE Bi-weekly Tech Support!\nDo you need help with: \n\nRecovering your password(s)\nEmail\nAccount Recovery\nSyncing or backing up devices\nSetting up a new device\nRemote storage\nInternet access/safety\nAny other tech-related issue\n\nNo reservation required. Walk-in to the nearest library listed here to meet one-on-one with our technology specialist who can answer your questions or refer you to an appropriate resource. \nTECH SUPPORT PROVIDED BY:\nJOSHUA MEROFF FROM SUNRISE COUNTY ECONOMIC COUNCIL\, WITH SUPPORT FROM\nMAINE CONNECTIVITY AUTHORITY. QUESTIONS? CALL (207) 255-0983.
URL:https://sunrisecounty.org/event/harrington-tech-support-3/
LOCATION:Gallison Memorial Library\, 1292 Main Street\, Harrington\, ME\, 04643\, United States
CATEGORIES:Drop-In Hours,Tech Assistance
ATTACH;FMTTYPE=image/jpeg:https://sunrisecounty.org/wp-content/uploads/2024/07/Jonesport-Harrington-Tech.jpg
END:VEVENT
BEGIN:VEVENT
DTSTART;TZID=America/New_York:20240822T110000
DTEND;TZID=America/New_York:20240822T130000
DTSTAMP:20260424T214649
CREATED:20240722T151738Z
LAST-MODIFIED:20240722T151738Z
UID:14573-1724324400-1724331600@sunrisecounty.org
SUMMARY:Jonesport Tech Support
DESCRIPTION:FREE Bi-weekly Tech Support!\nDo you need help with: \n\nRecovering your password(s)\nEmail\nAccount Recovery\nSyncing or backing up devices\nSetting up a new device\nRemote storage\nInternet access/safety\nAny other tech-related issue\n\nNo reservation required. Walk-in to the nearest library listed here to meet one-on-one with our technology specialist who can answer your questions or refer you to an appropriate resource. \nTECH SUPPORT PROVIDED BY:\nJOSHUA MEROFF FROM SUNRISE COUNTY ECONOMIC COUNCIL\, WITH SUPPORT FROM\nMAINE CONNECTIVITY AUTHORITY. QUESTIONS? CALL (207) 255-0983.
URL:https://sunrisecounty.org/event/jonesport-tech-support-2/
LOCATION:Peabody Memorial Library\, 162 Main St\, Jonesport\, ME\, 04649\, United States
CATEGORIES:Drop-In Hours,Tech Assistance
ATTACH;FMTTYPE=image/jpeg:https://sunrisecounty.org/wp-content/uploads/2024/07/Jonesport-Harrington-Tech.jpg
END:VEVENT
BEGIN:VEVENT
DTSTART;TZID=America/New_York:20240813T140000
DTEND;TZID=America/New_York:20240813T160000
DTSTAMP:20260424T214649
CREATED:20240716T075821Z
LAST-MODIFIED:20240716T075821Z
UID:14501-1723557600-1723564800@sunrisecounty.org
SUMMARY:Calais Tech Assistance
DESCRIPTION:Do you need help with: \n\nRecovering your password(s)\nEmail\nAccount Recovery\nSyncing or backing up devices\nSetting up a new device\nRemote storage\nInternet access/safety\nAny other tech-related issue\n\nNo reservation required. Walk-in to the nearest library listed here to meet one-on-one with our technology specialist who can answer your questions or refer you to an appropriate resource. \nTECH SUPPORT PROVIDED BY:\nJOSHUA MEROFF FROM SUNRISE COUNTY ECONOMIC COUNCIL\, WITH SUPPORT FROM\nMAINE CONNECTIVITY AUTHORITY. QUESTIONS? CALL (207) 255-0983.
URL:https://sunrisecounty.org/event/calais-tech-assistance-4/
LOCATION:Calais Free Library\, 9 Union Street\, Calais\, ME\, 04619\, United States
CATEGORIES:Tech Assistance
ATTACH;FMTTYPE=image/jpeg:https://sunrisecounty.org/wp-content/uploads/2024/07/Eastport-Calais-Tech.jpg
END:VEVENT
BEGIN:VEVENT
DTSTART;TZID=America/New_York:20240813T110000
DTEND;TZID=America/New_York:20240813T130000
DTSTAMP:20260424T214649
CREATED:20240716T064049Z
LAST-MODIFIED:20240716T064050Z
UID:14478-1723546800-1723554000@sunrisecounty.org
SUMMARY:Eastport Tech Assistance
DESCRIPTION:FREE Bi-weekly Tech Support!\nDo you need help with: \n\nRecovering your password(s)\nEmail\nAccount Recovery\nSyncing or backing up devices\nSetting up a new device\nRemote storage\nInternet access/safety\nAny other tech-related issue\n\nNo reservation required. Walk-in to the nearest library listed here to meet one-on-one with our technology specialist who can answer your questions or refer you to an appropriate resource. \nTECH SUPPORT PROVIDED BY:\nJOSHUA MEROFF FROM SUNRISE COUNTY ECONOMIC COUNCIL\, WITH SUPPORT FROM\nMAINE CONNECTIVITY AUTHORITY. QUESTIONS? CALL (207) 255-0983.
URL:https://sunrisecounty.org/event/eastport-tech-assistance-2/
LOCATION:Peavey Memorial Library\, 22 Water Street\, Eastport\, ME\, 04631\, United States
CATEGORIES:Tech Assistance
ATTACH;FMTTYPE=image/jpeg:https://sunrisecounty.org/wp-content/uploads/2024/07/Tech-Assistance-2.jpg
END:VEVENT
BEGIN:VEVENT
DTSTART;TZID=America/New_York:20240808T140000
DTEND;TZID=America/New_York:20240808T160000
DTSTAMP:20260424T214649
CREATED:20240722T152840Z
LAST-MODIFIED:20240722T152840Z
UID:14578-1723125600-1723132800@sunrisecounty.org
SUMMARY:Harrington Tech Support
DESCRIPTION:FREE Bi-weekly Tech Support!\nDo you need help with: \n\nRecovering your password(s)\nEmail\nAccount Recovery\nSyncing or backing up devices\nSetting up a new device\nRemote storage\nInternet access/safety\nAny other tech-related issue\n\nNo reservation required. Walk-in to the nearest library listed here to meet one-on-one with our technology specialist who can answer your questions or refer you to an appropriate resource. \nTECH SUPPORT PROVIDED BY:\nJOSHUA MEROFF FROM SUNRISE COUNTY ECONOMIC COUNCIL\, WITH SUPPORT FROM\nMAINE CONNECTIVITY AUTHORITY. QUESTIONS? CALL (207) 255-0983.
URL:https://sunrisecounty.org/event/harrington-tech-support-2/
LOCATION:Gallison Memorial Library\, 1292 Main Street\, Harrington\, ME\, 04643\, United States
CATEGORIES:Drop-In Hours,Tech Assistance
ATTACH;FMTTYPE=image/jpeg:https://sunrisecounty.org/wp-content/uploads/2024/07/Jonesport-Harrington-Tech.jpg
END:VEVENT
BEGIN:VEVENT
DTSTART;TZID=America/New_York:20240808T110000
DTEND;TZID=America/New_York:20240808T130000
DTSTAMP:20260424T214649
CREATED:20240801T160345Z
LAST-MODIFIED:20240803T033951Z
UID:14643-1723114800-1723122000@sunrisecounty.org
SUMMARY:Community Outreach (Jonesport)
DESCRIPTION:Community Outreach at Peabody Memorial Library in Jonesport! \nDon’t miss our community outreach event at Peabody Memorial Library in Jonesport on Thursday\, August 8th from 11:00 AM to 1:00 PM! Come to the library at 162 Main Street\, Jonesport\, and chat with team members from Sunrise County Economic Council. See you there! \nFor updates\, please follow our Facebook event page!
URL:https://sunrisecounty.org/event/community-outreach-jonesport/
LOCATION:Peabody Memorial Library\, 162 Main St\, Jonesport\, ME\, 04649\, United States
CATEGORIES:Business & Entrepreneurship Resources,Drop-In Hours,Resource Fair,Small Business Resources,Tech Assistance
ATTACH;FMTTYPE=image/jpeg:https://sunrisecounty.org/wp-content/uploads/2024/08/453155202_941200144708625_7359935036195678045_n.jpg
ORGANIZER;CN="MaineStreet Business Building":MAILTO:info@mainestreetbusiness.org
END:VEVENT
BEGIN:VEVENT
DTSTART;TZID=America/New_York:20240808T110000
DTEND;TZID=America/New_York:20240808T130000
DTSTAMP:20260424T214649
CREATED:20240722T151547Z
LAST-MODIFIED:20240722T151547Z
UID:14571-1723114800-1723122000@sunrisecounty.org
SUMMARY:Jonesport Tech Support
DESCRIPTION:FREE Bi-weekly Tech Support!\nDo you need help with: \n\nRecovering your password(s)\nEmail\nAccount Recovery\nSyncing or backing up devices\nSetting up a new device\nRemote storage\nInternet access/safety\nAny other tech-related issue\n\nNo reservation required. Walk-in to the nearest library listed here to meet one-on-one with our technology specialist who can answer your questions or refer you to an appropriate resource. \nTECH SUPPORT PROVIDED BY:\nJOSHUA MEROFF FROM SUNRISE COUNTY ECONOMIC COUNCIL\, WITH SUPPORT FROM\nMAINE CONNECTIVITY AUTHORITY. QUESTIONS? CALL (207) 255-0983.
URL:https://sunrisecounty.org/event/jonesport-tech-support/
LOCATION:Peabody Memorial Library\, 162 Main St\, Jonesport\, ME\, 04649\, United States
CATEGORIES:Drop-In Hours,Tech Assistance
ATTACH;FMTTYPE=image/jpeg:https://sunrisecounty.org/wp-content/uploads/2024/07/Jonesport-Harrington-Tech.jpg
END:VEVENT
BEGIN:VEVENT
DTSTART;TZID=America/New_York:20240730T140000
DTEND;TZID=America/New_York:20240730T160000
DTSTAMP:20260424T214649
CREATED:20240716T075245Z
LAST-MODIFIED:20240716T075245Z
UID:14497-1722348000-1722355200@sunrisecounty.org
SUMMARY:Calais Tech Assistance
DESCRIPTION:Do you need help with: \n\nRecovering your password(s)\nEmail\nAccount Recovery\nSyncing or backing up devices\nSetting up a new device\nRemote storage\nInternet access/safety\nAny other tech-related issue\n\nNo reservation required. Walk-in to the nearest library listed here to meet one-on-one with our technology specialist who can answer your questions or refer you to an appropriate resource. \nTECH SUPPORT PROVIDED BY:\nJOSHUA MEROFF FROM SUNRISE COUNTY ECONOMIC COUNCIL\, WITH SUPPORT FROM\nMAINE CONNECTIVITY AUTHORITY. QUESTIONS? CALL (207) 255-0983.
URL:https://sunrisecounty.org/event/calais-tech-assistance-2/
LOCATION:Calais Free Library\, 9 Union Street\, Calais\, ME\, 04619\, United States
CATEGORIES:Tech Assistance
ATTACH;FMTTYPE=image/jpeg:https://sunrisecounty.org/wp-content/uploads/2024/07/Eastport-Calais-Tech.jpg
END:VEVENT
BEGIN:VEVENT
DTSTART;TZID=America/New_York:20240730T110000
DTEND;TZID=America/New_York:20240730T130000
DTSTAMP:20260424T214649
CREATED:20240716T061547Z
LAST-MODIFIED:20240716T070502Z
UID:14475-1722337200-1722344400@sunrisecounty.org
SUMMARY:Eastport Tech Assistance
DESCRIPTION:FREE Bi-weekly Tech Support!\nDo you need help with: \n\nRecovering your password(s)\nEmail\nAccount Recovery\nSyncing or backing up devices\nSetting up a new device\nRemote storage\nInternet access/safety\nAny other tech-related issue\n\nNo reservation required. Walk-in to the nearest library listed here to meet one-on-one with our technology specialist who can answer your questions or refer you to an appropriate resource. \nTECH SUPPORT PROVIDED BY:\nJOSHUA MEROFF FROM SUNRISE COUNTY ECONOMIC COUNCIL\, WITH SUPPORT FROM\nMAINE CONNECTIVITY AUTHORITY. QUESTIONS? CALL (207) 255-0983.
URL:https://sunrisecounty.org/event/eastport-tech-assistance/
LOCATION:Peavey Memorial Library\, 22 Water Street\, Eastport\, ME\, 04631\, United States
CATEGORIES:Tech Assistance
ATTACH;FMTTYPE=image/jpeg:https://sunrisecounty.org/wp-content/uploads/2024/07/Eastport-Calais-Tech.jpg
END:VEVENT
BEGIN:VEVENT
DTSTART;TZID=America/New_York:20240725T140000
DTEND;TZID=America/New_York:20240725T160000
DTSTAMP:20260424T214649
CREATED:20240716T080847Z
LAST-MODIFIED:20240716T080847Z
UID:14507-1721916000-1721923200@sunrisecounty.org
SUMMARY:Harrington Tech Support
DESCRIPTION:FREE Bi-weekly Tech Support!\nDo you need help with: \n\nRecovering your password(s)\nEmail\nAccount Recovery\nSyncing or backing up devices\nSetting up a new device\nRemote storage\nInternet access/safety\nAny other tech-related issue\n\nNo reservation required. Walk-in to the nearest library listed here to meet one-on-one with our technology specialist who can answer your questions or refer you to an appropriate resource. \nTECH SUPPORT PROVIDED BY:\nJOSHUA MEROFF FROM SUNRISE COUNTY ECONOMIC COUNCIL\, WITH SUPPORT FROM\nMAINE CONNECTIVITY AUTHORITY. QUESTIONS? CALL (207) 255-0983.
URL:https://sunrisecounty.org/event/harrington-tech-support/
LOCATION:Gallison Memorial Library\, 1292 Main Street\, Harrington\, ME\, 04643\, United States
CATEGORIES:Tech Assistance
ATTACH;FMTTYPE=image/jpeg:https://sunrisecounty.org/wp-content/uploads/2024/07/Jonesport-Harrington-Tech.jpg
END:VEVENT
BEGIN:VEVENT
DTSTART;TZID=America/New_York:20240725T110000
DTEND;TZID=America/New_York:20240725T130000
DTSTAMP:20260424T214649
CREATED:20240716T080704Z
LAST-MODIFIED:20240716T080704Z
UID:14505-1721905200-1721912400@sunrisecounty.org
SUMMARY:Jonesport Tech Assistance
DESCRIPTION:FREE Bi-weekly Tech Support!\nDo you need help with: \n\nRecovering your password(s)\nEmail\nAccount Recovery\nSyncing or backing up devices\nSetting up a new device\nRemote storage\nInternet access/safety\nAny other tech-related issue\n\nNo reservation required. Walk-in to the nearest library listed here to meet one-on-one with our technology specialist who can answer your questions or refer you to an appropriate resource. \nTECH SUPPORT PROVIDED BY:\nJOSHUA MEROFF FROM SUNRISE COUNTY ECONOMIC COUNCIL\, WITH SUPPORT FROM\nMAINE CONNECTIVITY AUTHORITY. QUESTIONS? CALL (207) 255-0983.
URL:https://sunrisecounty.org/event/jonesport-tech-assistance/
LOCATION:Peabody Memorial Library\, 162 Main St\, Jonesport\, ME\, 04649\, United States
CATEGORIES:Tech Assistance
ATTACH;FMTTYPE=image/jpeg:https://sunrisecounty.org/wp-content/uploads/2024/07/Jonesport-Harrington-Tech.jpg
END:VEVENT
BEGIN:VEVENT
DTSTART;TZID=America/New_York:20240716T140000
DTEND;TZID=America/New_York:20240716T160000
DTSTAMP:20260424T214649
CREATED:20240716T075115Z
LAST-MODIFIED:20240716T075115Z
UID:14494-1721138400-1721145600@sunrisecounty.org
SUMMARY:Calais Tech Assistance
DESCRIPTION:Do you need help with: \n\nRecovering your password(s)\nEmail\nAccount Recovery\nSyncing or backing up devices\nSetting up a new device\nRemote storage\nInternet access/safety\nAny other tech-related issue\n\nNo reservation required. Walk-in to the nearest library listed here to meet one-on-one with our technology specialist who can answer your questions or refer you to an appropriate resource. \nTECH SUPPORT PROVIDED BY:\nJOSHUA MEROFF FROM SUNRISE COUNTY ECONOMIC COUNCIL\, WITH SUPPORT FROM\nMAINE CONNECTIVITY AUTHORITY. QUESTIONS? CALL (207) 255-0983.
URL:https://sunrisecounty.org/event/calais-tech-assistance/
LOCATION:Calais Free Library\, 9 Union Street\, Calais\, ME\, 04619\, United States
CATEGORIES:Tech Assistance
ATTACH;FMTTYPE=image/jpeg:https://sunrisecounty.org/wp-content/uploads/2024/07/Eastport-Calais-Tech.jpg
END:VEVENT
BEGIN:VEVENT
DTSTART;TZID=America/New_York:20240716T110000
DTEND;TZID=America/New_York:20240716T130000
DTSTAMP:20260424T214649
CREATED:20240716T074748Z
LAST-MODIFIED:20240716T074748Z
UID:14492-1721127600-1721134800@sunrisecounty.org
SUMMARY:Eastport Tech Assistance
DESCRIPTION:Do you need help with: \n\nRecovering your password(s)\nEmail\nAccount Recovery\nSyncing or backing up devices\nSetting up a new device\nRemote storage\nInternet access/safety\nAny other tech-related issue\n\nNo reservation required. Walk-in to the nearest library listed here to meet one-on-one with our technology specialist who can answer your questions or refer you to an appropriate resource. \nTECH SUPPORT PROVIDED BY:\nJOSHUA MEROFF FROM SUNRISE COUNTY ECONOMIC COUNCIL\, WITH SUPPORT FROM\nMAINE CONNECTIVITY AUTHORITY. QUESTIONS? CALL (207) 255-0983.
URL:https://sunrisecounty.org/event/eastport-tech-assistance-4/
LOCATION:Peavey Memorial Library\, 22 Water Street\, Eastport\, ME\, 04631\, United States
CATEGORIES:Tech Assistance
ATTACH;FMTTYPE=image/jpeg:https://sunrisecounty.org/wp-content/uploads/2024/07/Eastport-Calais-Tech.jpg
END:VEVENT
BEGIN:VEVENT
DTSTART;TZID=America/New_York:20240711T140000
DTEND;TZID=America/New_York:20240711T160000
DTSTAMP:20260424T214649
CREATED:20240707T182735Z
LAST-MODIFIED:20240707T182735Z
UID:14415-1720706400-1720713600@sunrisecounty.org
SUMMARY:
DESCRIPTION:FREE Bi-weekly Tech Support!\nDo you need help with: \n\nRecovering your password(s)\nEmail\nAccount Recovery\nSyncing or backing up devices\nSetting up a new device\nRemote storage\nInternet access/safety\nAny other tech-related issue\n\nNo reservation required. Walk-in to the nearest library listed here to meet one-on-one with our technology specialist who can answer your questions or refer you to an appropriate resource. \nTECH SUPPORT PROVIDED BY:\nJOSHUA MEROFF FROM SUNRISE COUNTY ECONOMIC COUNCIL\, WITH SUPPORT FROM\nMAINE CONNECTIVITY AUTHORITY. QUESTIONS? CALL (207) 255-0983.
URL:https://sunrisecounty.org/event/14415/
LOCATION:Gallison Memorial Library\, 1292 Main Street\, Harrington\, ME\, 04643\, United States
CATEGORIES:Tech Assistance
ATTACH;FMTTYPE=image/jpeg:https://sunrisecounty.org/wp-content/uploads/2024/07/Tech-Assistance-2.jpg
END:VEVENT
BEGIN:VEVENT
DTSTART;TZID=America/New_York:20240711T110000
DTEND;TZID=America/New_York:20240711T130000
DTSTAMP:20260424T214649
CREATED:20240703T150931Z
LAST-MODIFIED:20240703T150931Z
UID:14398-1720695600-1720702800@sunrisecounty.org
SUMMARY:Tech Assistance
DESCRIPTION:FREE Bi-weekly Tech Support!\nDo you need help with: \n\nRecovering your password(s)\nEmail\nAccount Recovery\nSyncing or backing up devices\nSetting up a new device\nRemote storage\nInternet access/safety\nAny other tech-related issue\n\nNo reservation required. Walk-in to the nearest library listed here to meet one-on-one with our technology specialist who can answer your questions or refer you to an appropriate resource. \nTECH SUPPORT PROVIDED BY:\nJOSHUA MEROFF FROM SUNRISE COUNTY ECONOMIC COUNCIL\, WITH SUPPORT FROM\nMAINE CONNECTIVITY AUTHORITY. QUESTIONS? CALL (207) 255-0983.
URL:https://sunrisecounty.org/event/tech-assistance/
LOCATION:Peabody Memorial Library\, 162 Main St\, Jonesport\, ME\, 04649\, United States
CATEGORIES:Drop-In Hours,Tech Assistance
ATTACH;FMTTYPE=image/jpeg:https://sunrisecounty.org/wp-content/uploads/2024/07/Tech-Assistance-2.jpg
END:VEVENT
END:VCALENDAR