BEGIN:VCALENDAR
VERSION:2.0
PRODID:-//Sunrise County Economic Council - ECPv6.15.20//NONSGML v1.0//EN
CALSCALE:GREGORIAN
METHOD:PUBLISH
X-ORIGINAL-URL:https://sunrisecounty.org
X-WR-CALDESC:Events for Sunrise County Economic Council
REFRESH-INTERVAL;VALUE=DURATION:PT1H
X-Robots-Tag:noindex
X-PUBLISHED-TTL:PT1H
BEGIN:VTIMEZONE
TZID:America/New_York
BEGIN:DAYLIGHT
TZOFFSETFROM:-0500
TZOFFSETTO:-0400
TZNAME:EDT
DTSTART:20240310T070000
END:DAYLIGHT
BEGIN:STANDARD
TZOFFSETFROM:-0400
TZOFFSETTO:-0500
TZNAME:EST
DTSTART:20241103T060000
END:STANDARD
BEGIN:DAYLIGHT
TZOFFSETFROM:-0500
TZOFFSETTO:-0400
TZNAME:EDT
DTSTART:20250309T070000
END:DAYLIGHT
BEGIN:STANDARD
TZOFFSETFROM:-0400
TZOFFSETTO:-0500
TZNAME:EST
DTSTART:20251102T060000
END:STANDARD
BEGIN:DAYLIGHT
TZOFFSETFROM:-0500
TZOFFSETTO:-0400
TZNAME:EDT
DTSTART:20260308T070000
END:DAYLIGHT
BEGIN:STANDARD
TZOFFSETFROM:-0400
TZOFFSETTO:-0500
TZNAME:EST
DTSTART:20261101T060000
END:STANDARD
END:VTIMEZONE
BEGIN:VEVENT
DTSTART;TZID=America/New_York:20250311T140000
DTEND;TZID=America/New_York:20250311T160000
DTSTAMP:20260425T161056
CREATED:20250310T130633Z
LAST-MODIFIED:20250310T130633Z
UID:15762-1741701600-1741708800@sunrisecounty.org
SUMMARY:Free 1:1 Tech Support
DESCRIPTION:Do you need help with: \n\nRecovering your password(s)\nEmail\nAccount Recovery\nSyncing or backing up devices\nSetting up a new device\nRemote storage\nInternet access/safety\nAny other tech-related issue\n\nNo reservation required. Walk-in to the nearest library listed here to meet one-on-one with our technology specialist who can answer your questions or refer you to an appropriate resource. \nTECH SUPPORT PROVIDED BY:\nDANYEL CRABTREE FROM SUNRISE COUNTY ECONOMIC COUNCIL\, WITH SUPPORT FROM\nMAINE CONNECTIVITY AUTHORITY. QUESTIONS? CALL (207) 255-0983.
URL:https://sunrisecounty.org/event/free-11-tech-support/
LOCATION:Calais Free Library\, 9 Union Street\, Calais\, ME\, 04619\, United States
CATEGORIES:Tech Assistance
ATTACH;FMTTYPE=image/jpeg:https://sunrisecounty.org/wp-content/uploads/2025/03/SCEC-Tech-Support-March-April25.jpg
END:VEVENT
BEGIN:VEVENT
DTSTART;TZID=America/New_York:20250318T110000
DTEND;TZID=America/New_York:20250318T130000
DTSTAMP:20260425T161056
CREATED:20250310T131951Z
LAST-MODIFIED:20250310T131951Z
UID:15771-1742295600-1742302800@sunrisecounty.org
SUMMARY:Free 1:1 Tech Support (Jonesport)
DESCRIPTION:Do you need help with: \n\nRecovering your password(s)\nEmail\nAccount Recovery\nSyncing or backing up devices\nSetting up a new device\nRemote storage\nInternet access/safety\nAny other tech-related issue\n\nNo reservation required. Walk-in to the nearest library listed here to meet one-on-one with our technology specialist who can answer your questions or refer you to an appropriate resource. \nTECH SUPPORT PROVIDED BY:\nDANYEL CRABTREE FROM SUNRISE COUNTY ECONOMIC COUNCIL\, WITH SUPPORT FROM\nMAINE CONNECTIVITY AUTHORITY. QUESTIONS? CALL (207) 255-0983.
URL:https://sunrisecounty.org/event/free-11-tech-support-jonesport/
LOCATION:Peabody Memorial Library\, 162 Main St\, Jonesport\, ME\, 04649\, United States
CATEGORIES:Tech Assistance
ATTACH;FMTTYPE=image/jpeg:https://sunrisecounty.org/wp-content/uploads/2025/03/SCEC-Tech-Support-March-April25.jpg
END:VEVENT
BEGIN:VEVENT
DTSTART;TZID=America/New_York:20250318T140000
DTEND;TZID=America/New_York:20250318T160000
DTSTAMP:20260425T161056
CREATED:20250310T131341Z
LAST-MODIFIED:20250310T131341Z
UID:15767-1742306400-1742313600@sunrisecounty.org
SUMMARY:Free 1:1 Tech Support (Harrison)
DESCRIPTION:Do you need help with: \n\nRecovering your password(s)\nEmail\nAccount Recovery\nSyncing or backing up devices\nSetting up a new device\nRemote storage\nInternet access/safety\nAny other tech-related issue\n\nNo reservation required. Walk-in to the nearest library listed here to meet one-on-one with our technology specialist who can answer your questions or refer you to an appropriate resource. \nTECH SUPPORT PROVIDED BY:\nDANYEL CRABTREE FROM SUNRISE COUNTY ECONOMIC COUNCIL\, WITH SUPPORT FROM\nMAINE CONNECTIVITY AUTHORITY. QUESTIONS? CALL (207) 255-0983.
URL:https://sunrisecounty.org/event/free-11-tech-support-harrison/
LOCATION:Gallison Memorial Library\, 1292 Main Street\, Harrington\, ME\, 04643\, United States
CATEGORIES:Tech Assistance
ATTACH;FMTTYPE=image/jpeg:https://sunrisecounty.org/wp-content/uploads/2025/03/SCEC-Tech-Support-March-April25.jpg
END:VEVENT
BEGIN:VEVENT
DTSTART;TZID=America/New_York:20250325T110000
DTEND;TZID=America/New_York:20250325T130000
DTSTAMP:20260425T161056
CREATED:20250310T141232Z
LAST-MODIFIED:20250310T152221Z
UID:15776-1742900400-1742907600@sunrisecounty.org
SUMMARY:Free 1:1 Tech Support (Eastport)
DESCRIPTION:Do you need help with: \n\nRecovering your password(s)\nEmail\nAccount Recovery\nSyncing or backing up devices\nSetting up a new device\nRemote storage\nInternet access/safety\nAny other tech-related issue\n\nNo reservation required. Walk-in to the nearest library listed here to meet one-on-one with our technology specialist who can answer your questions or refer you to an appropriate resource. \nTECH SUPPORT PROVIDED BY:\nDANYEL CRABTREE FROM SUNRISE COUNTY ECONOMIC COUNCIL\, WITH SUPPORT FROM MAINE CONNECTIVITY AUTHORITY. QUESTIONS? CALL (207) 255-0983.
URL:https://sunrisecounty.org/event/free-11-tech-support-2/
LOCATION:Peavey Memorial Library\, 22 Water Street\, Eastport\, ME\, 04631\, United States
CATEGORIES:Tech Assistance
ATTACH;FMTTYPE=image/jpeg:https://sunrisecounty.org/wp-content/uploads/2025/03/SCEC-Tech-Support-March-April25.jpg
END:VEVENT
BEGIN:VEVENT
DTSTART;TZID=America/New_York:20250325T140000
DTEND;TZID=America/New_York:20250325T160000
DTSTAMP:20260425T161056
CREATED:20250310T152706Z
LAST-MODIFIED:20250310T152706Z
UID:15780-1742911200-1742918400@sunrisecounty.org
SUMMARY:Free 1:1 Tech Support (Lubec)
DESCRIPTION:Do you need help with: \n\nRecovering your password(s)\nEmail\nAccount Recovery\nSyncing or backing up devices\nSetting up a new device\nRemote storage\nInternet access/safety\nAny other tech-related issue\n\nNo reservation required. Walk-in to the nearest library listed here to meet one-on-one with our technology specialist who can answer your questions or refer you to an appropriate resource. \nTECH SUPPORT PROVIDED BY:\nDANYEL CRABTREE FROM SUNRISE COUNTY ECONOMIC COUNCIL\, WITH SUPPORT FROM MAINE CONNECTIVITY AUTHORITY. QUESTIONS? CALL (207) 255-0983.
URL:https://sunrisecounty.org/event/free-11-tech-support-lubec/
LOCATION:Lubec Memorial Library\, 55 Water Street\, Lubec
CATEGORIES:Tech Assistance
ATTACH;FMTTYPE=image/jpeg:https://sunrisecounty.org/wp-content/uploads/2025/03/SCEC-Tech-Support-March-April25.jpg
END:VEVENT
END:VCALENDAR