BEGIN:VCALENDAR
VERSION:2.0
PRODID:-//Sunrise County Economic Council - ECPv6.15.20//NONSGML v1.0//EN
CALSCALE:GREGORIAN
METHOD:PUBLISH
X-ORIGINAL-URL:https://sunrisecounty.org
X-WR-CALDESC:Events for Sunrise County Economic Council
REFRESH-INTERVAL;VALUE=DURATION:PT1H
X-Robots-Tag:noindex
X-PUBLISHED-TTL:PT1H
BEGIN:VTIMEZONE
TZID:America/New_York
BEGIN:DAYLIGHT
TZOFFSETFROM:-0500
TZOFFSETTO:-0400
TZNAME:EDT
DTSTART:20230312T070000
END:DAYLIGHT
BEGIN:STANDARD
TZOFFSETFROM:-0400
TZOFFSETTO:-0500
TZNAME:EST
DTSTART:20231105T060000
END:STANDARD
BEGIN:DAYLIGHT
TZOFFSETFROM:-0500
TZOFFSETTO:-0400
TZNAME:EDT
DTSTART:20240310T070000
END:DAYLIGHT
BEGIN:STANDARD
TZOFFSETFROM:-0400
TZOFFSETTO:-0500
TZNAME:EST
DTSTART:20241103T060000
END:STANDARD
BEGIN:DAYLIGHT
TZOFFSETFROM:-0500
TZOFFSETTO:-0400
TZNAME:EDT
DTSTART:20250309T070000
END:DAYLIGHT
BEGIN:STANDARD
TZOFFSETFROM:-0400
TZOFFSETTO:-0500
TZNAME:EST
DTSTART:20251102T060000
END:STANDARD
BEGIN:DAYLIGHT
TZOFFSETFROM:-0500
TZOFFSETTO:-0400
TZNAME:EDT
DTSTART:20260308T070000
END:DAYLIGHT
BEGIN:STANDARD
TZOFFSETFROM:-0400
TZOFFSETTO:-0500
TZNAME:EST
DTSTART:20261101T060000
END:STANDARD
END:VTIMEZONE
BEGIN:VEVENT
DTSTART;TZID=America/New_York:20250211T133000
DTEND;TZID=America/New_York:20250211T143000
DTSTAMP:20260422T170503
CREATED:20241211T143638Z
LAST-MODIFIED:20241211T143638Z
UID:15329-1739280600-1739284200@sunrisecounty.org
SUMMARY:Facebook Pages for Business
DESCRIPTION:Facebook Pages for Business\nDate: February 11th & 18th\nTime: 1:30 PM – 2:30 PM\nLocation: MaineStreet Business Building\, 19 Main Street\, Machias\nDetails: This two-session class teaches participants how to create their first Facebook Page for a business\, nonprofit\, or cause. We also go over inviting friends to like your page\, producing content\, and page management to have a successful page on Facebook. Participants must have a device connected to the internet and a Facebook account for this class.\nMore Information & Enrollment/Registration: Register here or contact Dodie at demerson@sunrisecounty.org or 207-217-2132 for assistance.
URL:https://sunrisecounty.org/event/facebook-pages-for-business/
LOCATION:MaineStreet Business Building\, 19 Main St.\, Machias\, ME\, 04619\, United States
CATEGORIES:Educational Resources,For Municipalities,For Non-Profits,Online Webinars,Small Business Resources,Training
ATTACH;FMTTYPE=image/png:https://sunrisecounty.org/wp-content/uploads/2024/12/FB-for-Business-Feb-1118.png
ORGANIZER;CN="MaineStreet Business Building":MAILTO:info@mainestreetbusiness.org
END:VEVENT
BEGIN:VEVENT
DTSTART;TZID=America/New_York:20250115T163000
DTEND;TZID=America/New_York:20250115T173000
DTSTAMP:20260422T170503
CREATED:20241212T162709Z
LAST-MODIFIED:20250113T162935Z
UID:15399-1736958600-1736962200@sunrisecounty.org
SUMMARY:Identifying Frauds & Scams
DESCRIPTION:Identifying Frauds & Scams – Postponed – Stay tuned for new date/time!\nDate: January 15th\nTime: 4:30 PM – 5:30 PM\nLocation: MaineStreet Business Building\, 19 Main Street\, Machias\nDetails: Learn about the different types of internet fraud and scams\, the dos and don’ts of protecting yourself online\, and what to do if you have experienced online fraud or abuse.\nRequirements: All participants must be enrolled with NDEC and registered for the class.\nMore Information & Enrollment/Registration: Register here or contact Dodie at demerson@sunrisecounty.org or 207-217-2132 for assistance.
URL:https://sunrisecounty.org/event/identifying-frauds-scams/
LOCATION:MaineStreet Business Building\, 19 Main St.\, Machias\, ME\, 04619\, United States
CATEGORIES:Business & Entrepreneurship Resources,For Municipalities,For Non-Profits,Online Webinars,Small Business Resources,Tech Assistance
ATTACH;FMTTYPE=image/png:https://sunrisecounty.org/wp-content/uploads/2024/12/Frauds-and-Scams.png
ORGANIZER;CN="MaineStreet Business Building":MAILTO:info@mainestreetbusiness.org
END:VEVENT
BEGIN:VEVENT
DTSTART;TZID=America/New_York:20241119T140000
DTEND;TZID=America/New_York:20241119T180000
DTSTAMP:20260422T170503
CREATED:20241112T161852Z
LAST-MODIFIED:20241112T161852Z
UID:15227-1732024800-1732039200@sunrisecounty.org
SUMMARY:Business Funding and Resources Forum
DESCRIPTION:Date: November 19\nTime: 2:00 PM – 6:00 PM\nLocation: Machias Savings Bank Community Room\, Center Street\, Machias\nDetails: This forum provides access to funding sources\, resources\, and services\, with multiple rounds of speed networking and door prizes.\nMore Information: Business Funding and Resources Forum
URL:https://sunrisecounty.org/event/business-funding-and-resources-forum/
LOCATION:Machias Savings Bank Community Room\, Center Street\, Machias\, ME\, United States
CATEGORIES:Business & Entrepreneurship Resources,Drop-In Hours,Financial Resources,Small Business Resources
ATTACH;FMTTYPE=image/jpeg:https://sunrisecounty.org/wp-content/uploads/2024/11/2024-fall-bus-funding-resources-forum-master-v2-110624-scaled.jpg
END:VEVENT
BEGIN:VEVENT
DTSTART;TZID=America/New_York:20241113T110000
DTEND;TZID=America/New_York:20241113T130000
DTSTAMP:20260422T170503
CREATED:20241112T152453Z
LAST-MODIFIED:20241112T152453Z
UID:15218-1731495600-1731502800@sunrisecounty.org
SUMMARY:MaineStreet Business Building Outreach
DESCRIPTION:Learn about the services available at MaineStreet Business Building (MSBB). The MSBB team provides – at no cost to you – business coaching\, career development resource\, technical assistance\, help with finding and winning federal contracts\, technology advising\, diversifying income streams\, and more. We can also provide assistance with gap loans and micro-financing. \nMSBB Outreach @ Peabody Memorial Library\n162 Main Street\, Jonesport\nDate: November 13\nTime: 11:00 AM – 1:00 PM
URL:https://sunrisecounty.org/event/mainestreet-business-building-outreach/
LOCATION:Peabody Memorial Library\, 162 Main St\, Jonesport\, ME\, 04649\, United States
CATEGORIES:Business & Entrepreneurship Resources,Drop-In Hours,Financial Resources,Small Business Resources
ATTACH;FMTTYPE=image/png:https://sunrisecounty.org/wp-content/uploads/2024/11/Jonesport.png
ORGANIZER;CN="MaineStreet Business Building":MAILTO:info@mainestreetbusiness.org
END:VEVENT
BEGIN:VEVENT
DTSTART;TZID=America/New_York:20241028T120000
DTEND;TZID=America/New_York:20241028T140000
DTSTAMP:20260422T170503
CREATED:20240916T153359Z
LAST-MODIFIED:20241021T194356Z
UID:14875-1730116800-1730124000@sunrisecounty.org
SUMMARY:Essential Insurance Planning for Your Business (Machias)
DESCRIPTION:Protect your business with this essential 90-minute training from Andrew Beers of Beers Agency\, LLC. In this training\, you’ll learn about:\n– Insurance/liability coverage\n– Specific workplace issues including Narcan training and having it on site\n– Property Casualty\n– Business/Personal Insurance\n– Flood Insurance\n– Workers Comp\n– Employee Protection Liability\n– Directors & Officers Liability\n– Business Interruption Insurance Endorsement\n– Rental Property Liability\n– Emerging Trends: Cyber-security\, Credit cards\, AI\, HIPAA \nLunch will be served. Q&A to follow training. \nRegister Here!
URL:https://sunrisecounty.org/event/essential-insurance-planning-for-your-business-machias/
LOCATION:MaineStreet Business Building\, 19 Main St.\, Machias\, ME\, 04619\, United States
CATEGORIES:Business & Entrepreneurship Resources,Educational Resources,Small Business Resources,Training
ATTACH;FMTTYPE=image/png:https://sunrisecounty.org/wp-content/uploads/2024/09/Essential-Insurance-Planning-for-Your-Business-e1728565655287.png
ORGANIZER;CN="Washington County Recovery Friendly Workplace Network":MAILTO:demerson@sunrisecounty.org
END:VEVENT
BEGIN:VEVENT
DTSTART;TZID=America/New_York:20241016T100000
DTEND;TZID=America/New_York:20241016T143000
DTSTAMP:20260422T170503
CREATED:20240802T094458Z
LAST-MODIFIED:20240802T094554Z
UID:14651-1729072800-1729089000@sunrisecounty.org
SUMMARY:SCEC 2024 Annual Economic Summit
DESCRIPTION:Sunrise County Economic Summit 2024\nPlease join us as we explore the challenges and opportunities of housing\, digital equity & the tourism economy in rural Maine.\nSave the Date! Oct 16\, 2024 10:00am – 02:30pm \nDanforth Town Hall\n52 Depot St\, Danforth\, ME 04424
URL:https://sunrisecounty.org/event/scec-2024-annual-economic-summit/
LOCATION:Danforth Town Hall\, 52 Depot Street\, Danforth\, Maine\, 04424
CATEGORIES:Business & Entrepreneurship Resources,Economic Summit,For Municipalities,For Non-Profits,Small Business Resources,Tech Assistance
ATTACH;FMTTYPE=image/png:https://sunrisecounty.org/wp-content/uploads/2024/08/unnamed-12.png
END:VEVENT
BEGIN:VEVENT
DTSTART;TZID=America/New_York:20240919T170000
DTEND;TZID=America/New_York:20240919T190000
DTSTAMP:20260422T170503
CREATED:20240910T130515Z
LAST-MODIFIED:20240910T130515Z
UID:14845-1726765200-1726772400@sunrisecounty.org
SUMMARY:Business Resource & Contracting 101
DESCRIPTION:Attention business owners and entrepreneurs! If you are interested in meeting with different resource providers available to your business\, please stop by the MaineStreet Business Building on September 19 between 5 and 7 pm. We will have networking time\, business resource providers and a time to discuss business contracting. Whether you are an established business looking to expand\, or have a hobby that you would like to grow into a business\, this event is for you! \nPlease contact Jessica Crowley with any questions.
URL:https://sunrisecounty.org/event/business-resource-contracting-101/
LOCATION:MaineStreet Business Building\, 19 Main St.\, Machias\, ME\, 04619\, United States
CATEGORIES:Business & Entrepreneurship Resources,Drop-In Hours,Financial Resources,Small Business Resources
ORGANIZER;CN="MaineStreet Business Building":MAILTO:info@mainestreetbusiness.org
END:VEVENT
BEGIN:VEVENT
DTSTART;TZID=America/New_York:20240910T150000
DTEND;TZID=America/New_York:20240910T170000
DTSTAMP:20260422T170503
CREATED:20240910T130204Z
LAST-MODIFIED:20240910T130204Z
UID:14841-1725980400-1725987600@sunrisecounty.org
SUMMARY:Seaweed Farming Information Session
DESCRIPTION:Learn About Seaweed Farming!\nAtlantic Sea Farms is transforming coastal food systems by partnering with fishing families to farm regenerative kelp. Their innovative approach helps protect the environment while supporting local farmers.\nEvent Highlights:\n* Discover Their Mission: Learn how Atlantic Sea Farms is making an impact on the food system and coastal communities.* Meet the Experts: Connect with professionals dedicated to sustainability and food safety.* Explore Partnerships: Find out how maritime businesses can benefit from seaweed farming.\nAtlantic Sea Farms is committed to creating positive change through sustainable seaweed farming. Join us to see how you can be a part of this movement.\nFor more information and to RSVP: contact Amanda at asmith@sunrisecounty.org or Dodie at demerson@sunrisecounty.org
URL:https://sunrisecounty.org/event/seaweed-farming-information-session/
LOCATION:MaineStreet Business Building\, 19 Main St.\, Machias\, ME\, 04619\, United States
CATEGORIES:Agricultural Resources,Business & Entrepreneurship Resources,Educational Resources,Small Business Resources,Tech Assistance,Training,Workforce Training
ATTACH;FMTTYPE=image/jpeg:https://sunrisecounty.org/wp-content/uploads/2024/09/457191521_959505472878092_3689729223377939476_n-2.jpg
ORGANIZER;CN="MaineStreet Business Building":MAILTO:info@mainestreetbusiness.org
END:VEVENT
BEGIN:VEVENT
DTSTART;TZID=America/New_York:20240812T103000
DTEND;TZID=America/New_York:20240812T120000
DTSTAMP:20260422T170503
CREATED:20240722T072016Z
LAST-MODIFIED:20240722T072016Z
UID:14567-1723458600-1723464000@sunrisecounty.org
SUMMARY:Washington County's Working Waterfront
DESCRIPTION:Washington County’s Working Waterfront\nAugust 12\, 10:30 am-12 pm\nUmm Science 102 & via Zoom\nOrganized by Sunrise Senior College\nOver the past decade\, many changes have occurred at working waterfronts. Join us in finding out about the importance of lobster fishing in Washington County\, upcoming regulations around this industry and what the impacts may be from this. We will also learn about the ways in which the people of these working waterfronts can diversify their business interests and therefore increase their resilience both as a business and as a community. \nPresenters: Amanda Smith and Dodie Emerson are Business Advisors with Sunrise County Economic Council and work directly within the Working Waterfront community to assist with fostering its vitality.
URL:https://sunrisecounty.org/event/washington-countys-working-waterfront/
LOCATION:UMM\, Science 102\, 116 O'Brien Ave.\, Machias\, ME\, 4654\, United States
CATEGORIES:Business & Entrepreneurship Resources,Small Business Resources,Working Waterfront
END:VEVENT
BEGIN:VEVENT
DTSTART;TZID=America/New_York:20240808T110000
DTEND;TZID=America/New_York:20240808T130000
DTSTAMP:20260422T170503
CREATED:20240801T160345Z
LAST-MODIFIED:20240803T033951Z
UID:14643-1723114800-1723122000@sunrisecounty.org
SUMMARY:Community Outreach (Jonesport)
DESCRIPTION:Community Outreach at Peabody Memorial Library in Jonesport! \nDon’t miss our community outreach event at Peabody Memorial Library in Jonesport on Thursday\, August 8th from 11:00 AM to 1:00 PM! Come to the library at 162 Main Street\, Jonesport\, and chat with team members from Sunrise County Economic Council. See you there! \nFor updates\, please follow our Facebook event page!
URL:https://sunrisecounty.org/event/community-outreach-jonesport/
LOCATION:Peabody Memorial Library\, 162 Main St\, Jonesport\, ME\, 04649\, United States
CATEGORIES:Business & Entrepreneurship Resources,Drop-In Hours,Resource Fair,Small Business Resources,Tech Assistance
ATTACH;FMTTYPE=image/jpeg:https://sunrisecounty.org/wp-content/uploads/2024/08/453155202_941200144708625_7359935036195678045_n.jpg
ORGANIZER;CN="MaineStreet Business Building":MAILTO:info@mainestreetbusiness.org
END:VEVENT
BEGIN:VEVENT
DTSTART;TZID=America/New_York:20240805T100000
DTEND;TZID=America/New_York:20240805T120000
DTSTAMP:20260422T170504
CREATED:20240731T123929Z
LAST-MODIFIED:20240803T033906Z
UID:14638-1722852000-1722859200@sunrisecounty.org
SUMMARY:Community Resource Fair at Free Produce Day
DESCRIPTION:Community Resource Fair at Free Produce Day – August 5th! \nThe Washington County Recovery Friendly Workplace Network\, in collaboration with the DownEast Recovery Support Center\, will host a Community Resource Fair on Monday\, August 5th\, from 10:00 AM to 12:00 PM at the DownEast Recovery Support Center\, 11 Free Street\, Machias. \nThis month’s event promises to be an invaluable opportunity for our community\, featuring representatives from various organizations dedicated to supporting your success and well-being. Attendees will have the chance to connect with: \n\nAroostook Mental Health Center’s OPTIONS (Overdose Prevention through Intensive Outreach\, Naloxone & Safety) initiative: Providing free and confidential assistance to help community members connect to substance use treatment and recovery services.\nEastern Maine Development Corporation: Providing economic development services\, including career counseling and training assistance\, to improve the quality of life in Eastern Maine.\nFamily Futures Downeast: A two-generation college program designed for parents and their children to promote post-secondary education and early childhood education.\nHealthy Acadia’s Prosper Program: Offering navigation and support for expectant and new parents\, caregivers\, and families living with substance use disorder in Washington and Hancock counties\, Maine.\nJobs for Maine’s Graduates’ Higher Opportunity for Pathways to Employment (HOPE) and Parents as Scholars (PaS) Programs: Helping individuals access education and employment opportunities.\nMaineStreet Business Building (MSBB): Offering support and resources for local businesses.\nWashington County Recovery Friendly Workplace Network: Promoting recovery-friendly work environments.\n\nWhether you’re seeking business advice\, recovery resources\, or employment opportunities\, this Resource Fair is designed to connect you with the support you need. \nFor any questions\, please contact Dodie Emerson at demerson@sunrisecounty.org or 207-271-2132. We look forward to seeing you there! \nFree Produce Days are held on the first Monday and Tuesday of each month from 10:00 AM to 4:00 PM at the DownEast Recovery Support Center. Any updates or adjustments to this schedule will be promptly communicated through the DownEast Recovery Support Center Facebook page.
URL:https://sunrisecounty.org/event/community-resource-fair-at-free-produce-day/
LOCATION:DownEast Recovery Support Center\, 11 Free Street\, Machias\, ME\, 04654\, United States
CATEGORIES:Resource Fair,Small Business Resources
ATTACH;FMTTYPE=image/jpeg:https://sunrisecounty.org/wp-content/uploads/2024/07/Recovery-Support-Resource-Fair-Aug-5.jpg
ORGANIZER;CN="MaineStreet Business Building":MAILTO:info@mainestreetbusiness.org
END:VEVENT
BEGIN:VEVENT
DTSTART;TZID=America/New_York:20240711T130000
DTEND;TZID=America/New_York:20240711T170000
DTSTAMP:20260422T170504
CREATED:20240607T132541Z
LAST-MODIFIED:20240607T132541Z
UID:14040-1720702800-1720717200@sunrisecounty.org
SUMMARY:Employment Law: The Basics and Beyond
DESCRIPTION:The Washington County Recovery Friendly Workplace Network is excited to welcome Jack Bjorn\, Employee Benefits Attorney\, of Eaton Peabody Attorneys at Law for a 2-hour training and networking event.  \nThis is a FREE in-person event\, open to all Washington County employers and business owners \nFocused training on employment law – from hiring\, retention\, and everything in between; opportunities to network and ask the expert! \nFor businesses of all sizes- from entrepreneurs to sole proprietors to large businesses that employ hundreds\, this training will help explore the complex challenges that businesses face and understand the protections  Stay up-to-date on Compliance\, risk management\, creating fair and inclusive workplace\, employee relations\, cost savings\, avoiding discrimination or harassment\, protecting the company reputation\, learn about changes in employment law and practices. Networking opportunities with like-minded employers and resource providers with services to support your business.  \nLight refreshments provided \nHosted by: The Washington County Recovery Friendly Workplace Network\, with support from Community Caring Collaborative\, Sunrise County Economic Council and MaineStreet Business Building.  \nThe training will cover: \n\nHiring Practices\nWorkplace Safety and Health\nSubstance Use in the Workplace\nWorkplace Policies\nEmployee Benefits\nFamily Medical Leave\nRecordkeeping and Documentation\nDiscrimination and Harassment\nTermination and Layoffs\nWages and Hours\nEmployee Privacy\nImmigration and Work Authorization\nDispute Resolution\nCompliance with Labor Laws\n\nAgenda:\n1-2 pm: Networking & Refreshments\n2-4 pm: Training\n4-5 pm: Ask the Expert \nRegister here: https://lp.constantcontactpages.com/ev/reg/nwyc5s7/lp/91a9f8b4-aff6-4e15-b2cb-a9bf666329ca
URL:https://sunrisecounty.org/event/employment-law-the-basics-and-beyond/
LOCATION:Edward L Hennessey Jr. Training Center\, 1 Colonial Way\, Machias\, 04654\, United States
CATEGORIES:Business & Entrepreneurship Resources,Small Business Resources,Training
ATTACH;FMTTYPE=image/png:https://sunrisecounty.org/wp-content/uploads/2024/06/Employment-Law-Training.png
ORGANIZER;CN="Washington County Recovery Friendly Workplace Network":MAILTO:demerson@sunrisecounty.org
END:VEVENT
BEGIN:VEVENT
DTSTART;TZID=America/New_York:20240709T130000
DTEND;TZID=America/New_York:20240709T150000
DTSTAMP:20260422T170504
CREATED:20240626T142919Z
LAST-MODIFIED:20240626T142919Z
UID:14136-1720530000-1720537200@sunrisecounty.org
SUMMARY:Jonesport Area Resource Fair
DESCRIPTION:Learn about: \n\nRecovery Support\nSupport for Families\nWorkforce Support for Job Seekers\nEducation & Training Opportunities\nComputer Literacy Training\nSmall Business and Entrepreneurship Resources\n\nThis no-cost event is coordinated by the MaineStreet Business Building and Peabody Memorial Library with support from Eastern Maine Development Corporation\, Pathstone\, and CareerCenter. Questions? Please contact Dodie Emerson at demerson@sunrisecounty.org or 207-271-2132.
URL:https://sunrisecounty.org/event/jonesport-area-resource-fair/
LOCATION:Peabody Memorial Library\, 162 Main St\, Jonesport\, ME\, 04649\, United States
CATEGORIES:Business & Entrepreneurship Resources,Resource Fair,Small Business Resources
ATTACH;FMTTYPE=image/jpeg:https://sunrisecounty.org/wp-content/uploads/2024/06/Jonesport-Area-Resource-Fair-2.jpg
ORGANIZER;CN="MaineStreet Business Building":MAILTO:info@mainestreetbusiness.org
END:VEVENT
BEGIN:VEVENT
DTSTART;TZID=America/New_York:20240603T100000
DTEND;TZID=America/New_York:20240603T120000
DTSTAMP:20260422T170504
CREATED:20240531T133424Z
LAST-MODIFIED:20240531T134643Z
UID:13999-1717408800-1717416000@sunrisecounty.org
SUMMARY:Resource Fair @ Produce Day!
DESCRIPTION:MSBB is partnering with the DownEast Recovery Support Center for monthly mini-resource fairs during Free Produce Day! \nThis month’s lineup includes representatives from: \n\nDowneast Rainbow Alliance\nEastern Maine Development Corporation\nFamily Futures Downeast\nHealthy Acadia\nMaineStreet Business Building\nNext Step\nSunrise County Economic Council\nWashington County Adult & Community Education\n\nCome and grab some fresh produce\, explore programs designed to support you and your family\, and connect with valuable resources. \nQuestions? Please contact Dodie Emerson at demerson@sunrisecounty.org or 207-271-2132. We look forward to seeing you there! \nPlease note that Free Produce Days are scheduled for the first Monday and Tuesday of each month\, operating from 10 am to 4 pm at the DownEast Recovery Support Center. Any updates or adjustments to this schedule will be promptly communicated through the DownEast Recovery Support Center Facebook page.
URL:https://sunrisecounty.org/event/resource-fair-produce-day/
LOCATION:DownEast Recovery Support Center\, 11 Free Street\, Machias\, ME\, 04654\, United States
CATEGORIES:Business & Entrepreneurship Resources,Resource Fair,Small Business Resources
ATTACH;FMTTYPE=image/jpeg:https://sunrisecounty.org/wp-content/uploads/2024/05/Resource-Fair-@-Produce-Days3.jpg
END:VEVENT
BEGIN:VEVENT
DTSTART;TZID=America/New_York:20240501T090000
DTEND;TZID=America/New_York:20240501T110000
DTSTAMP:20260422T170504
CREATED:20240422T151633Z
LAST-MODIFIED:20240422T151756Z
UID:13385-1714554000-1714561200@sunrisecounty.org
SUMMARY:MERIT - Informational Session
DESCRIPTION:Please join Beth Bordowitz from the Maine Retirement Investment Trust (MERIT) as we discuss this exciting new program available to assist small business owners and their employees in saving for retirement as well as other retirement options for self-employed individuals and their employees.\nMERIT is a state-sponsored retirement savings program designed to ensure every Maine worker has the opportunity to build a secure financial future.\nLaunched earlier this year\, MERIT is working to ensure that all Mainers have access to retirement at work by providing small businesses with a free program to provide retirement benefits to their employees. More information can be found at: https://meritsaves.org/\nAll Maine Employers with fifteen or more employees must register with MERIT or certify their exemption by April 30\, 2024.\nEmployers with 5-14 employees must complete registration with MERIT by June 30\, 2024.\nDuring the session\, you’ll learn:– About the law that created MERIT– What MERIT means for your business– What MERIT means for your employees– Which businesses are eligible for MERIT– How to register with MERIT\nWe hope you will be able to join us!\nPlease email kbragg@sunrisecounty.org to register!
URL:https://sunrisecounty.org/event/merit-informational-session/
LOCATION:MaineStreet Business Building\, 19 Main St.\, Machias\, ME\, 04619\, United States
CATEGORIES:Small Business Resources
ATTACH;FMTTYPE=image/jpeg:https://sunrisecounty.org/wp-content/uploads/2024/04/436278871_871195335042440_7218974314559686257_n.jpg
ORGANIZER;CN="MaineStreet Business Building":MAILTO:info@mainestreetbusiness.org
END:VEVENT
END:VCALENDAR