BEGIN:VCALENDAR
VERSION:2.0
PRODID:-//Sunrise County Economic Council - ECPv6.15.20//NONSGML v1.0//EN
CALSCALE:GREGORIAN
METHOD:PUBLISH
X-WR-CALNAME:Sunrise County Economic Council
X-ORIGINAL-URL:https://sunrisecounty.org
X-WR-CALDESC:Events for Sunrise County Economic Council
REFRESH-INTERVAL;VALUE=DURATION:PT1H
X-Robots-Tag:noindex
X-PUBLISHED-TTL:PT1H
BEGIN:VTIMEZONE
TZID:America/New_York
BEGIN:DAYLIGHT
TZOFFSETFROM:-0500
TZOFFSETTO:-0400
TZNAME:EDT
DTSTART:20230312T070000
END:DAYLIGHT
BEGIN:STANDARD
TZOFFSETFROM:-0400
TZOFFSETTO:-0500
TZNAME:EST
DTSTART:20231105T060000
END:STANDARD
BEGIN:DAYLIGHT
TZOFFSETFROM:-0500
TZOFFSETTO:-0400
TZNAME:EDT
DTSTART:20240310T070000
END:DAYLIGHT
BEGIN:STANDARD
TZOFFSETFROM:-0400
TZOFFSETTO:-0500
TZNAME:EST
DTSTART:20241103T060000
END:STANDARD
BEGIN:DAYLIGHT
TZOFFSETFROM:-0500
TZOFFSETTO:-0400
TZNAME:EDT
DTSTART:20250309T070000
END:DAYLIGHT
BEGIN:STANDARD
TZOFFSETFROM:-0400
TZOFFSETTO:-0500
TZNAME:EST
DTSTART:20251102T060000
END:STANDARD
END:VTIMEZONE
BEGIN:VEVENT
DTSTART;TZID=America/New_York:20240709T130000
DTEND;TZID=America/New_York:20240709T150000
DTSTAMP:20260419T155131
CREATED:20240626T142919Z
LAST-MODIFIED:20240626T142919Z
UID:14136-1720530000-1720537200@sunrisecounty.org
SUMMARY:Jonesport Area Resource Fair
DESCRIPTION:Learn about: \n\nRecovery Support\nSupport for Families\nWorkforce Support for Job Seekers\nEducation & Training Opportunities\nComputer Literacy Training\nSmall Business and Entrepreneurship Resources\n\nThis no-cost event is coordinated by the MaineStreet Business Building and Peabody Memorial Library with support from Eastern Maine Development Corporation\, Pathstone\, and CareerCenter. Questions? Please contact Dodie Emerson at demerson@sunrisecounty.org or 207-271-2132.
URL:https://sunrisecounty.org/event/jonesport-area-resource-fair/
LOCATION:Peabody Memorial Library\, 162 Main St\, Jonesport\, ME\, 04649\, United States
CATEGORIES:Business & Entrepreneurship Resources,Resource Fair,Small Business Resources
ATTACH;FMTTYPE=image/jpeg:https://sunrisecounty.org/wp-content/uploads/2024/06/Jonesport-Area-Resource-Fair-2.jpg
ORGANIZER;CN="MaineStreet Business Building":MAILTO:info@mainestreetbusiness.org
END:VEVENT
END:VCALENDAR