BEGIN:VCALENDAR
VERSION:2.0
PRODID:-//Sunrise County Economic Council - ECPv6.15.20//NONSGML v1.0//EN
CALSCALE:GREGORIAN
METHOD:PUBLISH
X-WR-CALNAME:Sunrise County Economic Council
X-ORIGINAL-URL:https://sunrisecounty.org
X-WR-CALDESC:Events for Sunrise County Economic Council
REFRESH-INTERVAL;VALUE=DURATION:PT1H
X-Robots-Tag:noindex
X-PUBLISHED-TTL:PT1H
BEGIN:VTIMEZONE
TZID:America/New_York
BEGIN:DAYLIGHT
TZOFFSETFROM:-0500
TZOFFSETTO:-0400
TZNAME:EDT
DTSTART:20230312T070000
END:DAYLIGHT
BEGIN:STANDARD
TZOFFSETFROM:-0400
TZOFFSETTO:-0500
TZNAME:EST
DTSTART:20231105T060000
END:STANDARD
BEGIN:DAYLIGHT
TZOFFSETFROM:-0500
TZOFFSETTO:-0400
TZNAME:EDT
DTSTART:20240310T070000
END:DAYLIGHT
BEGIN:STANDARD
TZOFFSETFROM:-0400
TZOFFSETTO:-0500
TZNAME:EST
DTSTART:20241103T060000
END:STANDARD
BEGIN:DAYLIGHT
TZOFFSETFROM:-0500
TZOFFSETTO:-0400
TZNAME:EDT
DTSTART:20250309T070000
END:DAYLIGHT
BEGIN:STANDARD
TZOFFSETFROM:-0400
TZOFFSETTO:-0500
TZNAME:EST
DTSTART:20251102T060000
END:STANDARD
END:VTIMEZONE
BEGIN:VEVENT
DTSTART;TZID=America/New_York:20240603T100000
DTEND;TZID=America/New_York:20240603T120000
DTSTAMP:20260419T175148
CREATED:20240531T133424Z
LAST-MODIFIED:20240531T134643Z
UID:13999-1717408800-1717416000@sunrisecounty.org
SUMMARY:Resource Fair @ Produce Day!
DESCRIPTION:MSBB is partnering with the DownEast Recovery Support Center for monthly mini-resource fairs during Free Produce Day! \nThis month’s lineup includes representatives from: \n\nDowneast Rainbow Alliance\nEastern Maine Development Corporation\nFamily Futures Downeast\nHealthy Acadia\nMaineStreet Business Building\nNext Step\nSunrise County Economic Council\nWashington County Adult & Community Education\n\nCome and grab some fresh produce\, explore programs designed to support you and your family\, and connect with valuable resources. \nQuestions? Please contact Dodie Emerson at demerson@sunrisecounty.org or 207-271-2132. We look forward to seeing you there! \nPlease note that Free Produce Days are scheduled for the first Monday and Tuesday of each month\, operating from 10 am to 4 pm at the DownEast Recovery Support Center. Any updates or adjustments to this schedule will be promptly communicated through the DownEast Recovery Support Center Facebook page.
URL:https://sunrisecounty.org/event/resource-fair-produce-day/
LOCATION:DownEast Recovery Support Center\, 11 Free Street\, Machias\, ME\, 04654\, United States
CATEGORIES:Business & Entrepreneurship Resources,Resource Fair,Small Business Resources
ATTACH;FMTTYPE=image/jpeg:https://sunrisecounty.org/wp-content/uploads/2024/05/Resource-Fair-@-Produce-Days3.jpg
END:VEVENT
BEGIN:VEVENT
DTSTART;TZID=America/New_York:20240624T130000
DTEND;TZID=America/New_York:20240624T170000
DTSTAMP:20260419T175148
CREATED:20240607T131050Z
LAST-MODIFIED:20240607T131050Z
UID:14037-1719234000-1719248400@sunrisecounty.org
SUMMARY:Speed Networking with Resource Providers
DESCRIPTION:You are invited to join us at SCEC’s “Speed Networking with Resource Providers” event!\nOpen to All Municipalities and Nonprofits!  \n\nHalf-day in-person event designed for municipalities and nonprofits to meet representatives from state\, federal and regional organizations.\nParticipants visit 4 tables for 25 minute “speed networking” sessions to learn about current opportunities\, funding priorities\, and application processes.\nThe event will wrap up with time for additional networking\, Q&A and conversation.\n\nAbout this Event\nSunrise County Economic Council is hosting “Speed Networking with Resource Providers” to encourage municipalities and nonprofits in the area to meet with representatives from state\, federal\, and regional organizations. Participants will have the opportunity to learn about opportunities and talk more in-depth with resource providers as well as other participants who may have similar issues or prior experience.  SCEC’s goal is to assist municipalities and nonprofits to take advantage of all available resources and funding opportunities to achieve their objectives. \nWhen: Monday\, June 24\, 1:00-5:00 PM \nWhere: Edward L Hennessey Jr. Training Center\, 1 Colonial Way\, Machias \nTentative Agenda:\n1-2 pm: Informal networking\, welcome and process overview\n2-4 pm: “Speed Networking with Funders” (4 tables for 25-minute sessions)\n4-5 pm: Resource tables remain open until 5:00 for additional networking and conversation.
URL:https://sunrisecounty.org/event/speed-networking-with-resource-providers/
LOCATION:Edward L Hennessey Jr. Training Center\, 1 Colonial Way\, Machias\, 04654\, United States
CATEGORIES:For Municipalities,For Non-Profits,Resource Fair
END:VEVENT
BEGIN:VEVENT
DTSTART;TZID=America/New_York:20240626T100000
DTEND;TZID=America/New_York:20240626T130000
DTSTAMP:20260419T175148
CREATED:20240522T173513Z
LAST-MODIFIED:20240522T173513Z
UID:13984-1719396000-1719406800@sunrisecounty.org
SUMMARY:Calais Area Resource Fair
DESCRIPTION:Join us for this no-cost event\, coordinated by Washington County Community College and MaineStreet Business Building\, with support from Eastern Maine Development Corporation\, Pathstone\, and CareerCenter. \nIf you represent a Washington County resource provider and would like to reserve a table\, please click here. \nQuestions? Please contact Dodie Emerson at demerson@sunrisecounty.org or 207-271-2132.
URL:https://sunrisecounty.org/event/calais-area-resource-fair/
LOCATION:Washington County Community College\, College Drive\, Calais\, ME\, 04619\, United States
CATEGORIES:Resource Fair
ATTACH;FMTTYPE=image/jpeg:https://sunrisecounty.org/wp-content/uploads/2024/05/unnamed-7.jpg
ORGANIZER;CN="Washington County Recovery Friendly Workplace Network":MAILTO:demerson@sunrisecounty.org
END:VEVENT
END:VCALENDAR