BEGIN:VCALENDAR
VERSION:2.0
PRODID:-//Sunrise County Economic Council - ECPv6.15.20//NONSGML v1.0//EN
CALSCALE:GREGORIAN
METHOD:PUBLISH
X-ORIGINAL-URL:https://sunrisecounty.org
X-WR-CALDESC:Events for Sunrise County Economic Council
REFRESH-INTERVAL;VALUE=DURATION:PT1H
X-Robots-Tag:noindex
X-PUBLISHED-TTL:PT1H
BEGIN:VTIMEZONE
TZID:America/New_York
BEGIN:DAYLIGHT
TZOFFSETFROM:-0500
TZOFFSETTO:-0400
TZNAME:EDT
DTSTART:20230312T070000
END:DAYLIGHT
BEGIN:STANDARD
TZOFFSETFROM:-0400
TZOFFSETTO:-0500
TZNAME:EST
DTSTART:20231105T060000
END:STANDARD
BEGIN:DAYLIGHT
TZOFFSETFROM:-0500
TZOFFSETTO:-0400
TZNAME:EDT
DTSTART:20240310T070000
END:DAYLIGHT
BEGIN:STANDARD
TZOFFSETFROM:-0400
TZOFFSETTO:-0500
TZNAME:EST
DTSTART:20241103T060000
END:STANDARD
BEGIN:DAYLIGHT
TZOFFSETFROM:-0500
TZOFFSETTO:-0400
TZNAME:EDT
DTSTART:20250309T070000
END:DAYLIGHT
BEGIN:STANDARD
TZOFFSETFROM:-0400
TZOFFSETTO:-0500
TZNAME:EST
DTSTART:20251102T060000
END:STANDARD
END:VTIMEZONE
BEGIN:VEVENT
DTSTART;TZID=America/New_York:20240506T100000
DTEND;TZID=America/New_York:20240506T120000
DTSTAMP:20260419T192920
CREATED:20240429T165612Z
LAST-MODIFIED:20240429T165612Z
UID:13785-1714989600-1714996800@sunrisecounty.org
SUMMARY:Machias Area Mini Resource Fair
DESCRIPTION:Join us for the Machias Area Resource Fair during produce day at Down East Recovery Support Center!\nLearn about:– Workforce Support for Job Seekers– Education & Training Opportunities– Computer Literacy Training– Recovery Support– Support for Families– Small Business and Entrepreneurship Resources\nThis no-cost event is coordinated by the MaineStreet Business Building and Down East Recovery Support Center with support from Eastern Maine Development Corporation\, StartUp Downeast\, Family Futures Downeast\, CareerCenter\, Eastern Maine Development Corporation\, and Maine Department of Labor Bureau of Vocational Rehabilitation.\nQuestions? Please contact Dodie Emerson at demerson@sunrisecounty.org or 207-271-2132
URL:https://sunrisecounty.org/event/machias-area-mini-resource-fair/
LOCATION:DownEast Recovery Support Center\, 11 Free Street\, Machias\, ME\, 04654\, United States
CATEGORIES:Resource Fair
ATTACH;FMTTYPE=image/jpeg:https://sunrisecounty.org/wp-content/uploads/2024/04/May-6-Resource-Fair-2-1-scaled.jpg
END:VEVENT
END:VCALENDAR