BEGIN:VCALENDAR
VERSION:2.0
PRODID:-//Sunrise County Economic Council - ECPv6.15.20//NONSGML v1.0//EN
CALSCALE:GREGORIAN
METHOD:PUBLISH
X-WR-CALNAME:Sunrise County Economic Council
X-ORIGINAL-URL:https://sunrisecounty.org
X-WR-CALDESC:Events for Sunrise County Economic Council
REFRESH-INTERVAL;VALUE=DURATION:PT1H
X-Robots-Tag:noindex
X-PUBLISHED-TTL:PT1H
BEGIN:VTIMEZONE
TZID:America/New_York
BEGIN:DAYLIGHT
TZOFFSETFROM:-0500
TZOFFSETTO:-0400
TZNAME:EDT
DTSTART:20230312T070000
END:DAYLIGHT
BEGIN:STANDARD
TZOFFSETFROM:-0400
TZOFFSETTO:-0500
TZNAME:EST
DTSTART:20231105T060000
END:STANDARD
BEGIN:DAYLIGHT
TZOFFSETFROM:-0500
TZOFFSETTO:-0400
TZNAME:EDT
DTSTART:20240310T070000
END:DAYLIGHT
BEGIN:STANDARD
TZOFFSETFROM:-0400
TZOFFSETTO:-0500
TZNAME:EST
DTSTART:20241103T060000
END:STANDARD
BEGIN:DAYLIGHT
TZOFFSETFROM:-0500
TZOFFSETTO:-0400
TZNAME:EDT
DTSTART:20250309T070000
END:DAYLIGHT
BEGIN:STANDARD
TZOFFSETFROM:-0400
TZOFFSETTO:-0500
TZNAME:EST
DTSTART:20251102T060000
END:STANDARD
END:VTIMEZONE
BEGIN:VEVENT
DTSTART;TZID=America/New_York:20240327T100000
DTEND;TZID=America/New_York:20240327T130000
DTSTAMP:20260419T231525
CREATED:20240310T184512Z
LAST-MODIFIED:20240310T184512Z
UID:12813-1711533600-1711544400@sunrisecounty.org
SUMMARY:Machias Area Resource Fair
DESCRIPTION:Join us March 27\, 2024 from 10 am – 1 pm at the Edward J. Hennessey Building\, 1 Colonial Way\, Machias\, ME for a Machias Area Resource Fair. \nLearn about: \n\nWorkforce Support for Job Seekers\nEducation & Training Opportunities\nComputer Literacy Training\nRecovery Support\nSupport for Families\nSmall Business and Entrepreneurship Resources\n\nBrought to you by:
URL:https://sunrisecounty.org/event/machias-area-resource-fair/
LOCATION:Edward J. Hennessey Building\, 1 Colonial Way\, Machias\, ME\, 04654\, United States
CATEGORIES:Business & Entrepreneurship Resources,Resource Fair
ATTACH;FMTTYPE=image/jpeg:https://sunrisecounty.org/wp-content/uploads/2024/03/ResourceFairFlyer-copy.jpg
END:VEVENT
END:VCALENDAR