BEGIN:VCALENDAR
VERSION:2.0
PRODID:-//Sunrise County Economic Council - ECPv6.15.20//NONSGML v1.0//EN
CALSCALE:GREGORIAN
METHOD:PUBLISH
X-ORIGINAL-URL:https://sunrisecounty.org
X-WR-CALDESC:Events for Sunrise County Economic Council
REFRESH-INTERVAL;VALUE=DURATION:PT1H
X-Robots-Tag:noindex
X-PUBLISHED-TTL:PT1H
BEGIN:VTIMEZONE
TZID:America/New_York
BEGIN:DAYLIGHT
TZOFFSETFROM:-0500
TZOFFSETTO:-0400
TZNAME:EDT
DTSTART:20240310T070000
END:DAYLIGHT
BEGIN:STANDARD
TZOFFSETFROM:-0400
TZOFFSETTO:-0500
TZNAME:EST
DTSTART:20241103T060000
END:STANDARD
BEGIN:DAYLIGHT
TZOFFSETFROM:-0500
TZOFFSETTO:-0400
TZNAME:EDT
DTSTART:20250309T070000
END:DAYLIGHT
BEGIN:STANDARD
TZOFFSETFROM:-0400
TZOFFSETTO:-0500
TZNAME:EST
DTSTART:20251102T060000
END:STANDARD
BEGIN:DAYLIGHT
TZOFFSETFROM:-0500
TZOFFSETTO:-0400
TZNAME:EDT
DTSTART:20260308T070000
END:DAYLIGHT
BEGIN:STANDARD
TZOFFSETFROM:-0400
TZOFFSETTO:-0500
TZNAME:EST
DTSTART:20261101T060000
END:STANDARD
END:VTIMEZONE
BEGIN:VEVENT
DTSTART;TZID=America/New_York:20250603T130000
DTEND;TZID=America/New_York:20250603T140000
DTSTAMP:20260423T105002
CREATED:20250521T144239Z
LAST-MODIFIED:20250521T144239Z
UID:16061-1748955600-1748959200@sunrisecounty.org
SUMMARY:Lunch & Learn with Rich Brooks: LinkedIn for the Savvy Executive
DESCRIPTION:Are you on LinkedIn but feel like you’re not using it as effectively as you could? \nJoin us for a Virtual Lunch & Learn with Rich Brooks:\nLinkedIn for the Savvy Executive to Recruit & Build Trust\nRegister Here! \n📅 A 2-Part Series: June 3 & 4\, 2025\n⏰ 1:00-2:00 PM\n📍 Online via Zoom\nThere is no cost to participate! \nYou’ll discover:\nHow to optimize your profile\nHow to reach more people in the newsfeed\nHow to prospect and connect with your network\nHow to improve your company page\nHow to get a lot accomplished in very little time \nWe’ll also have time to look at your company page or your profile if you’d like some expert feedback and recommendations! \nAbout The Instructor: \nRich Brooks is the founder and president of flyte new media\, a digital agency in Portland\, Maine\, that’s been in business for over 28 years. He is a nationally recognized speaker on entrepreneurship\, digital marketing\, and social media. \nHe appears regularly as the “tech guru” on the evening news show\, 207\, which airs on the NBC affiliates in Maine. He has also appeared in Inc. Magazine\, The Huffington Post\, Fast Company\, CNN\, the Social Media Examiner\, and many other news sources for stories on digital marketing. \nTake advantage of this exciting opportunity! Register Here! \nSponsored by Northern Maine Development Commission
URL:https://sunrisecounty.org/event/lunch-learn-with-rich-brooks-linkedin-for-the-savvy-executive/
LOCATION:Online via Zoom
CATEGORIES:Online Webinars
ATTACH;FMTTYPE=image/png:https://sunrisecounty.org/wp-content/uploads/2025/05/LinkedIn-3.png
END:VEVENT
BEGIN:VEVENT
DTSTART;TZID=America/New_York:20250604T130000
DTEND;TZID=America/New_York:20250604T140000
DTSTAMP:20260423T105002
CREATED:20250521T144426Z
LAST-MODIFIED:20250521T144452Z
UID:16065-1749042000-1749045600@sunrisecounty.org
SUMMARY:Lunch & Learn with Rich Brooks: LinkedIn for the Savvy Executive
DESCRIPTION:Are you on LinkedIn but feel like you’re not using it as effectively as you could? \nJoin us for a Virtual Lunch & Learn with Rich Brooks:\nLinkedIn for the Savvy Executive to Recruit & Build Trust\nRegister Here! \n📅 A 2-Part Series: June 3 & 4\, 2025\n⏰ 1:00-2:00 PM\n📍 Online via Zoom\nThere is no cost to participate! \nYou’ll discover:\nHow to optimize your profile\nHow to reach more people in the newsfeed\nHow to prospect and connect with your network\nHow to improve your company page\nHow to get a lot accomplished in very little time \nWe’ll also have time to look at your company page or your profile if you’d like some expert feedback and recommendations! \nAbout The Instructor: \nRich Brooks is the founder and president of flyte new media\, a digital agency in Portland\, Maine\, that’s been in business for over 28 years. He is a nationally recognized speaker on entrepreneurship\, digital marketing\, and social media. \nHe appears regularly as the “tech guru” on the evening news show\, 207\, which airs on the NBC affiliates in Maine. He has also appeared in Inc. Magazine\, The Huffington Post\, Fast Company\, CNN\, the Social Media Examiner\, and many other news sources for stories on digital marketing. \nTake advantage of this exciting opportunity! Register Here! \nSponsored by Northern Maine Development Commission
URL:https://sunrisecounty.org/event/lunch-learn-with-rich-brooks-linkedin-for-the-savvy-executive-2/
LOCATION:Online via Zoom
CATEGORIES:Online Webinars
ATTACH;FMTTYPE=image/png:https://sunrisecounty.org/wp-content/uploads/2025/05/LinkedIn-3.png
END:VEVENT
BEGIN:VEVENT
DTSTART;VALUE=DATE:20250626
DTEND;VALUE=DATE:20250627
DTSTAMP:20260423T105002
CREATED:20250617T141843Z
LAST-MODIFIED:20250617T142203Z
UID:16210-1750896000-1750982399@sunrisecounty.org
SUMMARY:Driving Connections with Maine Connectivity Authority
DESCRIPTION:MCA’s President Andrew Butcher is getting on the road in his 1984 VW van “Buttercup” to celebrate and learn what has been working well and what we should consider as we look to the future of connectivity in Maine. \nRegistration is not required for events in Danforth and Eastport. Register for the Zoom session here.  \nLearn more at Driving Connections at maineconnectivity.org/driving-connex
URL:https://sunrisecounty.org/event/driving-connections-with-maine-connectivity-authority/
LOCATION:Danforth\, Eastport\, and via Zoom
CATEGORIES:Community Conversations,For Municipalities,Listening Sessions,Online Webinars
ATTACH;FMTTYPE=image/jpeg:https://sunrisecounty.org/wp-content/uploads/2025/06/Driving-Connections-Washington-County-June-26-copy.jpg
END:VEVENT
END:VCALENDAR