BEGIN:VCALENDAR
VERSION:2.0
PRODID:-//Sunrise County Economic Council - ECPv6.15.20//NONSGML v1.0//EN
CALSCALE:GREGORIAN
METHOD:PUBLISH
X-WR-CALNAME:Sunrise County Economic Council
X-ORIGINAL-URL:https://sunrisecounty.org
X-WR-CALDESC:Events for Sunrise County Economic Council
REFRESH-INTERVAL;VALUE=DURATION:PT1H
X-Robots-Tag:noindex
X-PUBLISHED-TTL:PT1H
BEGIN:VTIMEZONE
TZID:America/New_York
BEGIN:DAYLIGHT
TZOFFSETFROM:-0500
TZOFFSETTO:-0400
TZNAME:EDT
DTSTART:20230312T070000
END:DAYLIGHT
BEGIN:STANDARD
TZOFFSETFROM:-0400
TZOFFSETTO:-0500
TZNAME:EST
DTSTART:20231105T060000
END:STANDARD
BEGIN:DAYLIGHT
TZOFFSETFROM:-0500
TZOFFSETTO:-0400
TZNAME:EDT
DTSTART:20240310T070000
END:DAYLIGHT
BEGIN:STANDARD
TZOFFSETFROM:-0400
TZOFFSETTO:-0500
TZNAME:EST
DTSTART:20241103T060000
END:STANDARD
BEGIN:DAYLIGHT
TZOFFSETFROM:-0500
TZOFFSETTO:-0400
TZNAME:EDT
DTSTART:20250309T070000
END:DAYLIGHT
BEGIN:STANDARD
TZOFFSETFROM:-0400
TZOFFSETTO:-0500
TZNAME:EST
DTSTART:20251102T060000
END:STANDARD
BEGIN:DAYLIGHT
TZOFFSETFROM:-0500
TZOFFSETTO:-0400
TZNAME:EDT
DTSTART:20260308T070000
END:DAYLIGHT
BEGIN:STANDARD
TZOFFSETFROM:-0400
TZOFFSETTO:-0500
TZNAME:EST
DTSTART:20261101T060000
END:STANDARD
END:VTIMEZONE
BEGIN:VEVENT
DTSTART;TZID=America/New_York:20251103T173000
DTEND;TZID=America/New_York:20251103T200000
DTSTAMP:20260421T074750
CREATED:20251022T152101Z
LAST-MODIFIED:20251022T152305Z
UID:17001-1762191000-1762200000@sunrisecounty.org
SUMMARY:Upper Machias Bay Master Plan Public Meeting
DESCRIPTION:Be a part of planning for a healthy\, resilient\, and prosperous future for the Upper Machias Bay. \nJoin us for presentations + discussions regarding the dike replacement options. Share your thoughts\, questions\, and concerns. \nDinner & childcare will be provided! \nPlease RSVP by visiting: bit.ly/umbmprsvp \nThis is the second in a series of public meetings. The next meeting will be on December 10th and will focus on downtown flooding and water quality. \nFor more information about the project\, visit: sunrisecounty.org/machiasbay
URL:https://sunrisecounty.org/event/upper-machias-bay-master-plan-public-meeting-2/
LOCATION:Lee Pellon Center\, 90 Main Street\, Machias\, ME\, 04654\, United States
CATEGORIES:Educational Resources,For Municipalities,Listening Sessions,Municipal Resources,Working Waterfront
ATTACH;FMTTYPE=image/jpeg:https://sunrisecounty.org/wp-content/uploads/2025/10/Master-plan-meeting-scaled.jpg
END:VEVENT
BEGIN:VEVENT
DTSTART;TZID=America/New_York:20251027T173000
DTEND;TZID=America/New_York:20251027T203000
DTSTAMP:20260421T074750
CREATED:20250925T163619Z
LAST-MODIFIED:20250925T163619Z
UID:16840-1761586200-1761597000@sunrisecounty.org
SUMMARY:Resilient Shorelines Workshop
DESCRIPTION:About one-third of Maine’s 5\,408-mile coastline are bluffs\, and prone to erosion. Communities along Washington County’s coasts are experiencing bluff erosion from both powerful winter storms\, and intense summer rains. \nWhile bluff erosion is natural\, for the landowners\, it can be devastating. However\, strategies which harness natural forces can slow bluff erosion Using them\, landowners can create healthy\, natural shorelines responsive to rising sea levels and intense storms. \nTo assist landowners managing bluffs\, Sunrise County Economic Council and the Maine Coastal Program will host a Resilient Shoreline Workshop Series in Machias on October 27th at 5:30 pm at the Lee-Pellon Center. \nThe free workshop will bring coastal geologists\, scientists\, state agency permit reviewers\, and local contractors to help attendees understand shoreline erosion management. At the end of the workshop\, attendees have the option to stay for free practitioner office-hours to receive 15-minute shoreline assessments from experts and local practitioners. \nThis workshop is aimed at homeowners\, property owners\, property managers\, municipal leaders\, and real estate agents. \nLight dinner will be provided. Please register here!
URL:https://sunrisecounty.org/event/resilient-shorelines-workshop/
LOCATION:Lee Pellon Center\, 90 Main Street\, Machias\, ME\, 04654\, United States
CATEGORIES:For Municipalities,Municipal Resources,Training
ATTACH;FMTTYPE=image/png:https://sunrisecounty.org/wp-content/uploads/2025/09/CC-Event-Banners-2.png
END:VEVENT
BEGIN:VEVENT
DTSTART;TZID=America/New_York:20251017T173000
DTEND;TZID=America/New_York:20251017T200000
DTSTAMP:20260421T074750
CREATED:20251017T195522Z
LAST-MODIFIED:20251017T195522Z
UID:16970-1760722200-1760731200@sunrisecounty.org
SUMMARY:Upper Machias Bay Master Plan Public Meeting
DESCRIPTION:Be a part of planning for a healthy\, resilient\, and prosperous future for the Upper Machias Bay. Join us for presentations + discussions regarding the dike replacement options. \nShare your thoughts\, questions\, and concerns. Dinner & childcare will be provided! This is the 2nd in a series of public meetings for this project. \nRegister Here
URL:https://sunrisecounty.org/event/upper-machias-bay-master-plan-public-meeting/
LOCATION:Lee Pellon Center\, 90 Main Street\, Machias\, ME\, 04654\, United States
CATEGORIES:Community Conversations,Municipal Resources
ATTACH;FMTTYPE=image/jpeg:https://sunrisecounty.org/wp-content/uploads/2025/10/UMBMP_PM2_Poster8.5x11_101020252-scaled.jpg
END:VEVENT
BEGIN:VEVENT
DTSTART;TZID=America/New_York:20240801T180000
DTEND;TZID=America/New_York:20240801T190000
DTSTAMP:20260421T074750
CREATED:20240722T064227Z
LAST-MODIFIED:20240722T071528Z
UID:14560-1722535200-1722538800@sunrisecounty.org
SUMMARY:Cultivating Maine's Agricultural Future
DESCRIPTION:Cultivating Maine’s Agricultural Future: How Towns Can Support Agriculture & Protect Farmland\n\n\nMunicipalities have an important role to play in helping farm businesses thrive\, protecting valuable farmland from development\, and ensuring local ordinances and planning initiatives respond to the needs and goals of farmers in their communities. Following the release of the Second Edition of Cultivating Maine’s Agricultural Future: A Policy & Planning Guide for Towns\, join Maine Farmland Trust for a presentation and discussion on strategies that your town can take to support agriculture and protect farmland. \nAll are welcome. Free refreshments and printed copies of the guide provided. Information collected through this form will be used for planning purposes only. \nQuestions? Email Thacher at tcarter@mainefarmlandtrust.org.\n\nRSVP Here. 
URL:https://sunrisecounty.org/event/cultivating-maines-agricultural-future/
LOCATION:Sunrise County Economic Council\, 7 Ames Way\, Machias\, ME\, 4654\, United States
CATEGORIES:Agricultural Resources,Municipal Resources
ATTACH;FMTTYPE=image/jpeg:https://sunrisecounty.org/wp-content/uploads/2024/07/unnamed-12.jpg
END:VEVENT
END:VCALENDAR