BEGIN:VCALENDAR
VERSION:2.0
PRODID:-//Sunrise County Economic Council - ECPv6.15.20//NONSGML v1.0//EN
CALSCALE:GREGORIAN
METHOD:PUBLISH
X-WR-CALNAME:Sunrise County Economic Council
X-ORIGINAL-URL:https://sunrisecounty.org
X-WR-CALDESC:Events for Sunrise County Economic Council
REFRESH-INTERVAL;VALUE=DURATION:PT1H
X-Robots-Tag:noindex
X-PUBLISHED-TTL:PT1H
BEGIN:VTIMEZONE
TZID:America/New_York
BEGIN:DAYLIGHT
TZOFFSETFROM:-0500
TZOFFSETTO:-0400
TZNAME:EDT
DTSTART:20240310T070000
END:DAYLIGHT
BEGIN:STANDARD
TZOFFSETFROM:-0400
TZOFFSETTO:-0500
TZNAME:EST
DTSTART:20241103T060000
END:STANDARD
BEGIN:DAYLIGHT
TZOFFSETFROM:-0500
TZOFFSETTO:-0400
TZNAME:EDT
DTSTART:20250309T070000
END:DAYLIGHT
BEGIN:STANDARD
TZOFFSETFROM:-0400
TZOFFSETTO:-0500
TZNAME:EST
DTSTART:20251102T060000
END:STANDARD
BEGIN:DAYLIGHT
TZOFFSETFROM:-0500
TZOFFSETTO:-0400
TZNAME:EDT
DTSTART:20260308T070000
END:DAYLIGHT
BEGIN:STANDARD
TZOFFSETFROM:-0400
TZOFFSETTO:-0500
TZNAME:EST
DTSTART:20261101T060000
END:STANDARD
END:VTIMEZONE
BEGIN:VEVENT
DTSTART;TZID=America/New_York:20250710T235900
DTEND;TZID=America/New_York:20250710T235900
DTSTAMP:20260425T145806
CREATED:20250710T172809Z
LAST-MODIFIED:20250710T172945Z
UID:16353-1752191940-1752191940@sunrisecounty.org
SUMMARY:Gracie Fund Deadline
DESCRIPTION:Student Loan Repayment Program for Washington County Residents\n\n\n\n\nIf you consider Washington County your home and plan to stay here\, the Gracie Fund can help you repay your student loans. \nThe Gracie Fund fosters community development by helping recipients connect to Washington County through their commitment to a career and community service. Loan repayment awards of $5\,000 will be awarded to up to three individuals each year. \nDeadline: July 15\, 2025 at 11:59 PM ET \nLearn more here: https://sunrisecounty.org/workforcedevelopment/gracie-fund/
URL:https://sunrisecounty.org/event/gracie-fund-deadline-2/
CATEGORIES:Financial Resources,Funding opportunity
ATTACH;FMTTYPE=image/png:https://sunrisecounty.org/wp-content/uploads/2025/07/Gracie-Fund-App-4.png
END:VEVENT
END:VCALENDAR