BEGIN:VCALENDAR
VERSION:2.0
PRODID:-//Sunrise County Economic Council - ECPv6.15.20//NONSGML v1.0//EN
CALSCALE:GREGORIAN
METHOD:PUBLISH
X-ORIGINAL-URL:https://sunrisecounty.org
X-WR-CALDESC:Events for Sunrise County Economic Council
REFRESH-INTERVAL;VALUE=DURATION:PT1H
X-Robots-Tag:noindex
X-PUBLISHED-TTL:PT1H
BEGIN:VTIMEZONE
TZID:America/New_York
BEGIN:DAYLIGHT
TZOFFSETFROM:-0500
TZOFFSETTO:-0400
TZNAME:EDT
DTSTART:20230312T070000
END:DAYLIGHT
BEGIN:STANDARD
TZOFFSETFROM:-0400
TZOFFSETTO:-0500
TZNAME:EST
DTSTART:20231105T060000
END:STANDARD
BEGIN:DAYLIGHT
TZOFFSETFROM:-0500
TZOFFSETTO:-0400
TZNAME:EDT
DTSTART:20240310T070000
END:DAYLIGHT
BEGIN:STANDARD
TZOFFSETFROM:-0400
TZOFFSETTO:-0500
TZNAME:EST
DTSTART:20241103T060000
END:STANDARD
BEGIN:DAYLIGHT
TZOFFSETFROM:-0500
TZOFFSETTO:-0400
TZNAME:EDT
DTSTART:20250309T070000
END:DAYLIGHT
BEGIN:STANDARD
TZOFFSETFROM:-0400
TZOFFSETTO:-0500
TZNAME:EST
DTSTART:20251102T060000
END:STANDARD
BEGIN:DAYLIGHT
TZOFFSETFROM:-0500
TZOFFSETTO:-0400
TZNAME:EDT
DTSTART:20260308T070000
END:DAYLIGHT
BEGIN:STANDARD
TZOFFSETFROM:-0400
TZOFFSETTO:-0500
TZNAME:EST
DTSTART:20261101T060000
END:STANDARD
END:VTIMEZONE
BEGIN:VEVENT
DTSTART;TZID=America/New_York:20251210T173000
DTEND;TZID=America/New_York:20251210T200000
DTSTAMP:20260424T164555
CREATED:20251110T173332Z
LAST-MODIFIED:20251110T200419Z
UID:17132-1765387800-1765396800@sunrisecounty.org
SUMMARY:Upper Machias Bay Master Plan: Public Meeting #3
DESCRIPTION:Be a part of planning for a healthy\, resilient\, and prosperous future for the Upper Machias Bay. \nJoin us for presentations + discussions regarding downtown flooding and water quality. Share your thoughts\, questions\, and concerns. \nDinner & childcare will be provided! \nPlease RSVP by visiting: bit.ly/umbmprsvp \nThis is the third in a series of public meetings. The next meeting will be on January 12th. \nFor more information about the project\, visit: sunrisecounty.org/machiasbay
URL:https://sunrisecounty.org/event/upper-machias-bay-master-plan-public-meeting-3/
LOCATION:Lee Pellon Center\, 90 Main Street\, Machias\, ME\, 04654\, United States
CATEGORIES:Community Conversations,For Municipalities
ATTACH;FMTTYPE=image/jpeg:https://sunrisecounty.org/wp-content/uploads/2025/11/UMBMP_PM3_full_11072025.jpg
END:VEVENT
BEGIN:VEVENT
DTSTART;TZID=America/New_York:20251103T173000
DTEND;TZID=America/New_York:20251103T200000
DTSTAMP:20260424T164555
CREATED:20251022T152101Z
LAST-MODIFIED:20251022T152305Z
UID:17001-1762191000-1762200000@sunrisecounty.org
SUMMARY:Upper Machias Bay Master Plan Public Meeting
DESCRIPTION:Be a part of planning for a healthy\, resilient\, and prosperous future for the Upper Machias Bay. \nJoin us for presentations + discussions regarding the dike replacement options. Share your thoughts\, questions\, and concerns. \nDinner & childcare will be provided! \nPlease RSVP by visiting: bit.ly/umbmprsvp \nThis is the second in a series of public meetings. The next meeting will be on December 10th and will focus on downtown flooding and water quality. \nFor more information about the project\, visit: sunrisecounty.org/machiasbay
URL:https://sunrisecounty.org/event/upper-machias-bay-master-plan-public-meeting-2/
LOCATION:Lee Pellon Center\, 90 Main Street\, Machias\, ME\, 04654\, United States
CATEGORIES:Educational Resources,For Municipalities,Listening Sessions,Municipal Resources,Working Waterfront
ATTACH;FMTTYPE=image/jpeg:https://sunrisecounty.org/wp-content/uploads/2025/10/Master-plan-meeting-scaled.jpg
END:VEVENT
BEGIN:VEVENT
DTSTART;TZID=America/New_York:20251027T173000
DTEND;TZID=America/New_York:20251027T203000
DTSTAMP:20260424T164555
CREATED:20250925T163619Z
LAST-MODIFIED:20250925T163619Z
UID:16840-1761586200-1761597000@sunrisecounty.org
SUMMARY:Resilient Shorelines Workshop
DESCRIPTION:About one-third of Maine’s 5\,408-mile coastline are bluffs\, and prone to erosion. Communities along Washington County’s coasts are experiencing bluff erosion from both powerful winter storms\, and intense summer rains. \nWhile bluff erosion is natural\, for the landowners\, it can be devastating. However\, strategies which harness natural forces can slow bluff erosion Using them\, landowners can create healthy\, natural shorelines responsive to rising sea levels and intense storms. \nTo assist landowners managing bluffs\, Sunrise County Economic Council and the Maine Coastal Program will host a Resilient Shoreline Workshop Series in Machias on October 27th at 5:30 pm at the Lee-Pellon Center. \nThe free workshop will bring coastal geologists\, scientists\, state agency permit reviewers\, and local contractors to help attendees understand shoreline erosion management. At the end of the workshop\, attendees have the option to stay for free practitioner office-hours to receive 15-minute shoreline assessments from experts and local practitioners. \nThis workshop is aimed at homeowners\, property owners\, property managers\, municipal leaders\, and real estate agents. \nLight dinner will be provided. Please register here!
URL:https://sunrisecounty.org/event/resilient-shorelines-workshop/
LOCATION:Lee Pellon Center\, 90 Main Street\, Machias\, ME\, 04654\, United States
CATEGORIES:For Municipalities,Municipal Resources,Training
ATTACH;FMTTYPE=image/png:https://sunrisecounty.org/wp-content/uploads/2025/09/CC-Event-Banners-2.png
END:VEVENT
BEGIN:VEVENT
DTSTART;VALUE=DATE:20250626
DTEND;VALUE=DATE:20250627
DTSTAMP:20260424T164555
CREATED:20250617T141843Z
LAST-MODIFIED:20250617T142203Z
UID:16210-1750896000-1750982399@sunrisecounty.org
SUMMARY:Driving Connections with Maine Connectivity Authority
DESCRIPTION:MCA’s President Andrew Butcher is getting on the road in his 1984 VW van “Buttercup” to celebrate and learn what has been working well and what we should consider as we look to the future of connectivity in Maine. \nRegistration is not required for events in Danforth and Eastport. Register for the Zoom session here.  \nLearn more at Driving Connections at maineconnectivity.org/driving-connex
URL:https://sunrisecounty.org/event/driving-connections-with-maine-connectivity-authority/
LOCATION:Danforth\, Eastport\, and via Zoom
CATEGORIES:Community Conversations,For Municipalities,Listening Sessions,Online Webinars
ATTACH;FMTTYPE=image/jpeg:https://sunrisecounty.org/wp-content/uploads/2025/06/Driving-Connections-Washington-County-June-26-copy.jpg
END:VEVENT
BEGIN:VEVENT
DTSTART;TZID=America/New_York:20250211T133000
DTEND;TZID=America/New_York:20250211T143000
DTSTAMP:20260424T164555
CREATED:20241211T143638Z
LAST-MODIFIED:20241211T143638Z
UID:15329-1739280600-1739284200@sunrisecounty.org
SUMMARY:Facebook Pages for Business
DESCRIPTION:Facebook Pages for Business\nDate: February 11th & 18th\nTime: 1:30 PM – 2:30 PM\nLocation: MaineStreet Business Building\, 19 Main Street\, Machias\nDetails: This two-session class teaches participants how to create their first Facebook Page for a business\, nonprofit\, or cause. We also go over inviting friends to like your page\, producing content\, and page management to have a successful page on Facebook. Participants must have a device connected to the internet and a Facebook account for this class.\nMore Information & Enrollment/Registration: Register here or contact Dodie at demerson@sunrisecounty.org or 207-217-2132 for assistance.
URL:https://sunrisecounty.org/event/facebook-pages-for-business/
LOCATION:MaineStreet Business Building\, 19 Main St.\, Machias\, ME\, 04619\, United States
CATEGORIES:Educational Resources,For Municipalities,For Non-Profits,Online Webinars,Small Business Resources,Training
ATTACH;FMTTYPE=image/png:https://sunrisecounty.org/wp-content/uploads/2024/12/FB-for-Business-Feb-1118.png
ORGANIZER;CN="MaineStreet Business Building":MAILTO:info@mainestreetbusiness.org
END:VEVENT
BEGIN:VEVENT
DTSTART;TZID=America/New_York:20250115T163000
DTEND;TZID=America/New_York:20250115T173000
DTSTAMP:20260424T164555
CREATED:20241212T162709Z
LAST-MODIFIED:20250113T162935Z
UID:15399-1736958600-1736962200@sunrisecounty.org
SUMMARY:Identifying Frauds & Scams
DESCRIPTION:Identifying Frauds & Scams – Postponed – Stay tuned for new date/time!\nDate: January 15th\nTime: 4:30 PM – 5:30 PM\nLocation: MaineStreet Business Building\, 19 Main Street\, Machias\nDetails: Learn about the different types of internet fraud and scams\, the dos and don’ts of protecting yourself online\, and what to do if you have experienced online fraud or abuse.\nRequirements: All participants must be enrolled with NDEC and registered for the class.\nMore Information & Enrollment/Registration: Register here or contact Dodie at demerson@sunrisecounty.org or 207-217-2132 for assistance.
URL:https://sunrisecounty.org/event/identifying-frauds-scams/
LOCATION:MaineStreet Business Building\, 19 Main St.\, Machias\, ME\, 04619\, United States
CATEGORIES:Business & Entrepreneurship Resources,For Municipalities,For Non-Profits,Online Webinars,Small Business Resources,Tech Assistance
ATTACH;FMTTYPE=image/png:https://sunrisecounty.org/wp-content/uploads/2024/12/Frauds-and-Scams.png
ORGANIZER;CN="MaineStreet Business Building":MAILTO:info@mainestreetbusiness.org
END:VEVENT
BEGIN:VEVENT
DTSTART;TZID=America/New_York:20250114T113000
DTEND;TZID=America/New_York:20250114T123000
DTSTAMP:20260424T164555
CREATED:20241211T143109Z
LAST-MODIFIED:20241211T143109Z
UID:15325-1736854200-1736857800@sunrisecounty.org
SUMMARY:Disaster Preparedness for Small Business
DESCRIPTION:Disaster Preparedness for Small Business\nDate: January 14th\nTime: 11:30 AM – 12:30 PM\nLocation: MaineStreet Business Building\, 19 Main Street\, Machias or Zoom\nDetails: Join MSBB\, the Red Cross\, and the Machias Chamber of Commerce for a disaster preparedness session tailored for small businesses.\nEvent Link: https://www.facebook.com/share/19f7Hgu51o/\nMore Information: Contact Dodie at demerson@sunrisecounty.org or 207-217-2132.
URL:https://sunrisecounty.org/event/disaster-preparedness-for-small-business/
LOCATION:MaineStreet Business Building\, 19 Main St.\, Machias\, ME\, 04619\, United States
CATEGORIES:Business & Entrepreneurship Resources,Educational Resources,For Municipalities,For Non-Profits,Online Webinars,Training
ATTACH;FMTTYPE=image/jpeg:https://sunrisecounty.org/wp-content/uploads/2024/12/Disaster-Preparedness-Jan-14.jpg
ORGANIZER;CN="MaineStreet Business Building":MAILTO:info@mainestreetbusiness.org
END:VEVENT
BEGIN:VEVENT
DTSTART;TZID=America/New_York:20250107T140000
DTEND;TZID=America/New_York:20250107T150000
DTSTAMP:20260424T164555
CREATED:20241211T142654Z
LAST-MODIFIED:20241211T142654Z
UID:15322-1736258400-1736262000@sunrisecounty.org
SUMMARY:Claim What’s Yours: A Guide to Tax Credits for Working Families
DESCRIPTION:Claim What’s Yours: A Guide to Tax Credits for Working Families\nDate: January 7th\nTime: 2:00 PM – 3:00 PM\nLocation: Zoom\nDetails: Join us to discover tax credits that can put money back in the pockets of hardworking taxpayers! This event will cover both refundable and non-refundable tax credits to help you save. Presented in partnership with the IRS and MaineStreet Business Building.\nEvent Link: https://www.facebook.com/share/1XmZVm4Gbn/\nMore Information: Contact Dodie at demerson@sunrisecounty.org or 207-217-2132.
URL:https://sunrisecounty.org/event/claim-whats-yours-a-guide-to-tax-credits-for-working-families/
LOCATION:Online via Zoom
CATEGORIES:Business & Entrepreneurship Resources,Educational Resources,For Municipalities,For Non-Profits,Online Webinars,Training
ATTACH;FMTTYPE=image/jpeg:https://sunrisecounty.org/wp-content/uploads/2024/12/Claim-Whats-Yours-A-Guide-to-Tax-Credits-for-Working-Families.jpg
ORGANIZER;CN="MaineStreet Business Building":MAILTO:info@mainestreetbusiness.org
END:VEVENT
BEGIN:VEVENT
DTSTART;TZID=America/New_York:20241016T100000
DTEND;TZID=America/New_York:20241016T143000
DTSTAMP:20260424T164555
CREATED:20240802T094458Z
LAST-MODIFIED:20240802T094554Z
UID:14651-1729072800-1729089000@sunrisecounty.org
SUMMARY:SCEC 2024 Annual Economic Summit
DESCRIPTION:Sunrise County Economic Summit 2024\nPlease join us as we explore the challenges and opportunities of housing\, digital equity & the tourism economy in rural Maine.\nSave the Date! Oct 16\, 2024 10:00am – 02:30pm \nDanforth Town Hall\n52 Depot St\, Danforth\, ME 04424
URL:https://sunrisecounty.org/event/scec-2024-annual-economic-summit/
LOCATION:Danforth Town Hall\, 52 Depot Street\, Danforth\, Maine\, 04424
CATEGORIES:Business & Entrepreneurship Resources,Economic Summit,For Municipalities,For Non-Profits,Small Business Resources,Tech Assistance
ATTACH;FMTTYPE=image/png:https://sunrisecounty.org/wp-content/uploads/2024/08/unnamed-12.png
END:VEVENT
BEGIN:VEVENT
DTSTART;TZID=America/New_York:20240624T130000
DTEND;TZID=America/New_York:20240624T170000
DTSTAMP:20260424T164555
CREATED:20240607T131050Z
LAST-MODIFIED:20240607T131050Z
UID:14037-1719234000-1719248400@sunrisecounty.org
SUMMARY:Speed Networking with Resource Providers
DESCRIPTION:You are invited to join us at SCEC’s “Speed Networking with Resource Providers” event!\nOpen to All Municipalities and Nonprofits!  \n\nHalf-day in-person event designed for municipalities and nonprofits to meet representatives from state\, federal and regional organizations.\nParticipants visit 4 tables for 25 minute “speed networking” sessions to learn about current opportunities\, funding priorities\, and application processes.\nThe event will wrap up with time for additional networking\, Q&A and conversation.\n\nAbout this Event\nSunrise County Economic Council is hosting “Speed Networking with Resource Providers” to encourage municipalities and nonprofits in the area to meet with representatives from state\, federal\, and regional organizations. Participants will have the opportunity to learn about opportunities and talk more in-depth with resource providers as well as other participants who may have similar issues or prior experience.  SCEC’s goal is to assist municipalities and nonprofits to take advantage of all available resources and funding opportunities to achieve their objectives. \nWhen: Monday\, June 24\, 1:00-5:00 PM \nWhere: Edward L Hennessey Jr. Training Center\, 1 Colonial Way\, Machias \nTentative Agenda:\n1-2 pm: Informal networking\, welcome and process overview\n2-4 pm: “Speed Networking with Funders” (4 tables for 25-minute sessions)\n4-5 pm: Resource tables remain open until 5:00 for additional networking and conversation.
URL:https://sunrisecounty.org/event/speed-networking-with-resource-providers/
LOCATION:Edward L Hennessey Jr. Training Center\, 1 Colonial Way\, Machias\, 04654\, United States
CATEGORIES:For Municipalities,For Non-Profits,Resource Fair
END:VEVENT
END:VCALENDAR