BEGIN:VCALENDAR
VERSION:2.0
PRODID:-//Sunrise County Economic Council - ECPv6.15.20//NONSGML v1.0//EN
CALSCALE:GREGORIAN
METHOD:PUBLISH
X-ORIGINAL-URL:https://sunrisecounty.org
X-WR-CALDESC:Events for Sunrise County Economic Council
REFRESH-INTERVAL;VALUE=DURATION:PT1H
X-Robots-Tag:noindex
X-PUBLISHED-TTL:PT1H
BEGIN:VTIMEZONE
TZID:America/New_York
BEGIN:DAYLIGHT
TZOFFSETFROM:-0500
TZOFFSETTO:-0400
TZNAME:EDT
DTSTART:20240310T070000
END:DAYLIGHT
BEGIN:STANDARD
TZOFFSETFROM:-0400
TZOFFSETTO:-0500
TZNAME:EST
DTSTART:20241103T060000
END:STANDARD
BEGIN:DAYLIGHT
TZOFFSETFROM:-0500
TZOFFSETTO:-0400
TZNAME:EDT
DTSTART:20250309T070000
END:DAYLIGHT
BEGIN:STANDARD
TZOFFSETFROM:-0400
TZOFFSETTO:-0500
TZNAME:EST
DTSTART:20251102T060000
END:STANDARD
BEGIN:DAYLIGHT
TZOFFSETFROM:-0500
TZOFFSETTO:-0400
TZNAME:EDT
DTSTART:20260308T070000
END:DAYLIGHT
BEGIN:STANDARD
TZOFFSETFROM:-0400
TZOFFSETTO:-0500
TZNAME:EST
DTSTART:20261101T060000
END:STANDARD
END:VTIMEZONE
BEGIN:VEVENT
DTSTART;TZID=America/New_York:20250401T140000
DTEND;TZID=America/New_York:20250401T153000
DTSTAMP:20260421T132456
CREATED:20250213T184001Z
LAST-MODIFIED:20250213T193313Z
UID:15699-1743516000-1743521400@sunrisecounty.org
SUMMARY:Next-Level Service: Enhancing Customer Experience
DESCRIPTION:Customer experience starts before the sale and continues beyond. Learn actionable strategies to create memorable interactions that foster loyalty and growth. \nRegister here for this individual workshop. Interested in earning college credit (at no cost to you)? Complete this additional form through WCCC and you’ll be added to the online course. Please reach out to Amanda Smith\, course co-facilitator with questions.
URL:https://sunrisecounty.org/event/next-level-service-enhancing-customer-experience/
LOCATION:Online via Zoom
CATEGORIES:Entrepreneurship Training,Pathways 2.0
ATTACH;FMTTYPE=image/png:https://sunrisecounty.org/wp-content/uploads/2025/02/10.png
END:VEVENT
BEGIN:VEVENT
DTSTART;TZID=America/New_York:20250401T154500
DTEND;TZID=America/New_York:20250401T170000
DTSTAMP:20260421T132457
CREATED:20250213T184245Z
LAST-MODIFIED:20250213T184245Z
UID:15701-1743522300-1743526800@sunrisecounty.org
SUMMARY:Network to Win: Building Partnerships That Matter
DESCRIPTION:Uncover the power of relationships in business. Gain insights into effective networking\, communication strategies\, and building partnerships that fuel growth. \nRegister here for this individual workshop. Interested in earning college credit (at no cost to you)? Complete this additional form through WCCC and you’ll be added to the online course. Please reach out to Amanda Smith\, course co-facilitator with questions.
URL:https://sunrisecounty.org/event/network-to-win-building-partnerships-that-matter/
LOCATION:Online via Zoom
CATEGORIES:Entrepreneurship Training,Pathways 2.0
ATTACH;FMTTYPE=image/png:https://sunrisecounty.org/wp-content/uploads/2025/02/11.png
END:VEVENT
BEGIN:VEVENT
DTSTART;TZID=America/New_York:20250408T140000
DTEND;TZID=America/New_York:20250408T153000
DTSTAMP:20260421T132457
CREATED:20250213T184543Z
LAST-MODIFIED:20250213T184543Z
UID:15703-1744120800-1744126200@sunrisecounty.org
SUMMARY:Efficiency Hacks: Work Smarter\, Grow Faster
DESCRIPTION:Boost productivity and reduce costs. Discover best practices for streamlining operations\, optimizing resources\, and driving sustainable growth. \nRegister here for this individual workshop. Interested in earning college credit (at no cost to you)? Complete this additional form through WCCC and you’ll be added to the online course. Please reach out to Amanda Smith\, course co-facilitator with questions.
URL:https://sunrisecounty.org/event/efficiency-hacks-work-smarter-grow-faster/
LOCATION:Online via Zoom
CATEGORIES:Business & Entrepreneurship Resources,Entrepreneurship Training,Pathways 2.0
ATTACH;FMTTYPE=image/png:https://sunrisecounty.org/wp-content/uploads/2025/02/12.png
END:VEVENT
BEGIN:VEVENT
DTSTART;TZID=America/New_York:20250408T154500
DTEND;TZID=America/New_York:20250408T170000
DTSTAMP:20260421T132457
CREATED:20250213T184816Z
LAST-MODIFIED:20250213T184816Z
UID:15705-1744127100-1744131600@sunrisecounty.org
SUMMARY:Tax Time Made Easy: Plan\, Prepare\, Prosper
DESCRIPTION:Simplify tax season with proactive planning. Learn key practices and resources to keep your business financially organized year-round. \nRegister here for this individual workshop. Interested in earning college credit (at no cost to you)? Complete this additional form through WCCC and you’ll be added to the online course. Please reach out to Amanda Smith\, course co-facilitator with questions.
URL:https://sunrisecounty.org/event/tax-time-made-easy-plan-prepare-prosper/
LOCATION:Online via Zoom
CATEGORIES:Entrepreneurship Training,Pathways 2.0
ATTACH;FMTTYPE=image/png:https://sunrisecounty.org/wp-content/uploads/2025/02/13.png
END:VEVENT
BEGIN:VEVENT
DTSTART;TZID=America/New_York:20250415T140000
DTEND;TZID=America/New_York:20250415T153000
DTSTAMP:20260421T132457
CREATED:20250213T185145Z
LAST-MODIFIED:20250213T185145Z
UID:15707-1744725600-1744731000@sunrisecounty.org
SUMMARY:Financial Fitness: Monitor Your Business Health
DESCRIPTION:You don’t need to be a finance expert to succeed. Learn how to track key metrics\, manage cash flow\, and maintain financial stability as your business grows. \nRegister here for this individual workshop. Interested in earning college credit (at no cost to you)? Complete this additional form through WCCC and you’ll be added to the online course. Please reach out to Amanda Smith\, course co-facilitator with questions.
URL:https://sunrisecounty.org/event/financial-fitness-monitor-your-business-health/
LOCATION:Online via Zoom
CATEGORIES:Business & Entrepreneurship Resources,Entrepreneurship Training,Pathways 2.0
ATTACH;FMTTYPE=image/png:https://sunrisecounty.org/wp-content/uploads/2025/02/14.png
END:VEVENT
BEGIN:VEVENT
DTSTART;TZID=America/New_York:20250415T154500
DTEND;TZID=America/New_York:20250415T170000
DTSTAMP:20260421T132457
CREATED:20250213T190030Z
LAST-MODIFIED:20250213T190030Z
UID:15709-1744731900-1744736400@sunrisecounty.org
SUMMARY:Risk Ready: Navigating Business Decisions with Confidence
DESCRIPTION:Identify smart risks and avoid costly mistakes. Learn decision-making strategies to strengthen your business and ensure long-term success. \nRegister here for this individual workshop. Interested in earning college credit (at no cost to you)? Complete this additional form through WCCC and you’ll be added to the online course. Please reach out to Amanda Smith\, course co-facilitator with questions.
URL:https://sunrisecounty.org/event/risk-ready-navigating-business-decisions-with-confidence/
LOCATION:Online via Zoom
CATEGORIES:Entrepreneurship Training,Pathways 2.0
ATTACH;FMTTYPE=image/png:https://sunrisecounty.org/wp-content/uploads/2025/02/15.png
END:VEVENT
BEGIN:VEVENT
DTSTART;TZID=America/New_York:20250422T140000
DTEND;TZID=America/New_York:20250422T153000
DTSTAMP:20260421T132457
CREATED:20250213T190453Z
LAST-MODIFIED:20250213T190453Z
UID:15711-1745330400-1745335800@sunrisecounty.org
SUMMARY:Hiring Smart: From Solopreneur to Employer
DESCRIPTION:Decide when it’s time to grow your team. Compare contractors vs. employees\, explore hiring strategies\, and learn how to create a positive workplace culture. \nRegister here for this individual workshop. Interested in earning college credit (at no cost to you)? Complete this additional form through WCCC and you’ll be added to the online course. Please reach out to Amanda Smith\, course co-facilitator with questions.
URL:https://sunrisecounty.org/event/hiring-smart-from-solopreneur-to-employer/
LOCATION:Online via Zoom
CATEGORIES:Entrepreneurship Training,Pathways 2.0
ATTACH;FMTTYPE=image/png:https://sunrisecounty.org/wp-content/uploads/2025/02/16.png
END:VEVENT
BEGIN:VEVENT
DTSTART;TZID=America/New_York:20250422T154500
DTEND;TZID=America/New_York:20250422T170000
DTSTAMP:20260421T132457
CREATED:20250213T190823Z
LAST-MODIFIED:20250213T190823Z
UID:15713-1745336700-1745341200@sunrisecounty.org
SUMMARY:Purpose-Driven Workplaces: Build Culture\, Drive Success
DESCRIPTION:Create a workplace where people thrive. Learn how to foster inclusivity\, boost morale\, and align your team with your company’s mission and values. \n\nRegister here for this individual workshop. Interested in earning college credit (at no cost to you)? Complete this additional form through WCCC and you’ll be added to the online course. Please reach out to Amanda Smith\, course co-facilitator with questions.
URL:https://sunrisecounty.org/event/purpose-driven-workplaces-build-culture-drive-success/
LOCATION:Online via Zoom
CATEGORIES:Entrepreneurship Training,Pathways 2.0
ATTACH;FMTTYPE=image/png:https://sunrisecounty.org/wp-content/uploads/2025/02/17.png
END:VEVENT
BEGIN:VEVENT
DTSTART;TZID=America/New_York:20250429T140000
DTEND;TZID=America/New_York:20250429T153000
DTSTAMP:20260421T132457
CREATED:20250213T192115Z
LAST-MODIFIED:20250213T192115Z
UID:15715-1745935200-1745940600@sunrisecounty.org
SUMMARY:The End Game: Planning for Your Business Transition
DESCRIPTION:What’s your end game? Whether selling\, passing it on\, or stepping back\, plan your business exit strategically to maximize value and leave a lasting legacy. \n\nRegister here for this individual workshop. Interested in earning college credit (at no cost to you)? Complete this additional form through WCCC and you’ll be added to the online course. Please reach out to Amanda Smith\, course co-facilitator with questions.
URL:https://sunrisecounty.org/event/the-end-game-planning-for-your-business-transition/
LOCATION:Online via Zoom
CATEGORIES:Entrepreneurship Training,Pathways 2.0
ATTACH;FMTTYPE=image/png:https://sunrisecounty.org/wp-content/uploads/2025/02/18.png
END:VEVENT
BEGIN:VEVENT
DTSTART;TZID=America/New_York:20250429T154500
DTEND;TZID=America/New_York:20250429T170000
DTSTAMP:20260421T132457
CREATED:20250213T192317Z
LAST-MODIFIED:20250213T192317Z
UID:15717-1745941500-1745946000@sunrisecounty.org
SUMMARY:Small Business\, Big Impact: Your Role in the Local Economy
DESCRIPTION:Understand how your business drives community growth. Discover how small businesses shape local economies and how you can make a greater impact. \n\nRegister here for this individual workshop. Interested in earning college credit (at no cost to you)? Complete this additional form through WCCC and you’ll be added to the online course. Please reach out to Amanda Smith\, course co-facilitator with questions.
URL:https://sunrisecounty.org/event/small-business-big-impact-your-role-in-the-local-economy/
LOCATION:Online via Zoom
CATEGORIES:Entrepreneurship Training,Pathways 2.0
ATTACH;FMTTYPE=image/png:https://sunrisecounty.org/wp-content/uploads/2025/02/19.png
END:VEVENT
END:VCALENDAR