BEGIN:VCALENDAR
VERSION:2.0
PRODID:-//Sunrise County Economic Council - ECPv6.15.20//NONSGML v1.0//EN
CALSCALE:GREGORIAN
METHOD:PUBLISH
X-WR-CALNAME:Sunrise County Economic Council
X-ORIGINAL-URL:https://sunrisecounty.org
X-WR-CALDESC:Events for Sunrise County Economic Council
REFRESH-INTERVAL;VALUE=DURATION:PT1H
X-Robots-Tag:noindex
X-PUBLISHED-TTL:PT1H
BEGIN:VTIMEZONE
TZID:America/New_York
BEGIN:DAYLIGHT
TZOFFSETFROM:-0500
TZOFFSETTO:-0400
TZNAME:EDT
DTSTART:20240310T070000
END:DAYLIGHT
BEGIN:STANDARD
TZOFFSETFROM:-0400
TZOFFSETTO:-0500
TZNAME:EST
DTSTART:20241103T060000
END:STANDARD
BEGIN:DAYLIGHT
TZOFFSETFROM:-0500
TZOFFSETTO:-0400
TZNAME:EDT
DTSTART:20250309T070000
END:DAYLIGHT
BEGIN:STANDARD
TZOFFSETFROM:-0400
TZOFFSETTO:-0500
TZNAME:EST
DTSTART:20251102T060000
END:STANDARD
BEGIN:DAYLIGHT
TZOFFSETFROM:-0500
TZOFFSETTO:-0400
TZNAME:EDT
DTSTART:20260308T070000
END:DAYLIGHT
BEGIN:STANDARD
TZOFFSETFROM:-0400
TZOFFSETTO:-0500
TZNAME:EST
DTSTART:20261101T060000
END:STANDARD
END:VTIMEZONE
BEGIN:VEVENT
DTSTART;TZID=America/New_York:20250225T154500
DTEND;TZID=America/New_York:20250225T170000
DTSTAMP:20260421T163851
CREATED:20250213T172024Z
LAST-MODIFIED:20250213T172024Z
UID:15641-1740498300-1740502800@sunrisecounty.org
SUMMARY:Design Like a Pro: Graphic Design for Business
DESCRIPTION:Create eye-catching visuals with ease. This workshop covers tools and tips to help your business stand out with professional-looking graphics. \nRegister here for this individual workshop. Interested in earning college credit (at no cost to you)? Complete this additional form through WCCC and you’ll be added to the online course. Please reach out to Amanda Smith\, course co-facilitator with questions.
URL:https://sunrisecounty.org/event/design-like-a-pro-graphic-design-for-business/
LOCATION:Online via Zoom
CATEGORIES:Entrepreneurship Training,Pathways 2.0
ATTACH;FMTTYPE=image/png:https://sunrisecounty.org/wp-content/uploads/2025/02/2.png
END:VEVENT
END:VCALENDAR