BEGIN:VCALENDAR
VERSION:2.0
PRODID:-//Sunrise County Economic Council - ECPv6.15.20//NONSGML v1.0//EN
CALSCALE:GREGORIAN
METHOD:PUBLISH
X-WR-CALNAME:Sunrise County Economic Council
X-ORIGINAL-URL:https://sunrisecounty.org
X-WR-CALDESC:Events for Sunrise County Economic Council
REFRESH-INTERVAL;VALUE=DURATION:PT1H
X-Robots-Tag:noindex
X-PUBLISHED-TTL:PT1H
BEGIN:VTIMEZONE
TZID:America/New_York
BEGIN:DAYLIGHT
TZOFFSETFROM:-0500
TZOFFSETTO:-0400
TZNAME:EDT
DTSTART:20230312T070000
END:DAYLIGHT
BEGIN:STANDARD
TZOFFSETFROM:-0400
TZOFFSETTO:-0500
TZNAME:EST
DTSTART:20231105T060000
END:STANDARD
BEGIN:DAYLIGHT
TZOFFSETFROM:-0500
TZOFFSETTO:-0400
TZNAME:EDT
DTSTART:20240310T070000
END:DAYLIGHT
BEGIN:STANDARD
TZOFFSETFROM:-0400
TZOFFSETTO:-0500
TZNAME:EST
DTSTART:20241103T060000
END:STANDARD
BEGIN:DAYLIGHT
TZOFFSETFROM:-0500
TZOFFSETTO:-0400
TZNAME:EDT
DTSTART:20250309T070000
END:DAYLIGHT
BEGIN:STANDARD
TZOFFSETFROM:-0400
TZOFFSETTO:-0500
TZNAME:EST
DTSTART:20251102T060000
END:STANDARD
BEGIN:DAYLIGHT
TZOFFSETFROM:-0500
TZOFFSETTO:-0400
TZNAME:EDT
DTSTART:20260308T070000
END:DAYLIGHT
BEGIN:STANDARD
TZOFFSETFROM:-0400
TZOFFSETTO:-0500
TZNAME:EST
DTSTART:20261101T060000
END:STANDARD
END:VTIMEZONE
BEGIN:VEVENT
DTSTART;TZID=America/New_York:20251114T083000
DTEND;TZID=America/New_York:20251114T143000
DTSTAMP:20260424T155058
CREATED:20250925T172338Z
LAST-MODIFIED:20251007T183734Z
UID:16890-1763109000-1763130600@sunrisecounty.org
SUMMARY:2025 Economic Summit
DESCRIPTION:Join us on November 14 from 8:30 am to 2:30 pm at Cobscook Institute for SCEC’s Annual Economic Summit. \nThe title of this year’s summit is “Jobs and Prosperity in Washington County: Workforce Attraction\, Retention and Development Strategies that Work Here.” \nRegister here!
URL:https://sunrisecounty.org/event/2025-economic-summit/
LOCATION:Cobscook Institute\, 10 Commissary Point Rd\, Trescott Township\, ME\, 04652\, United States
CATEGORIES:Economic Summit
ATTACH;FMTTYPE=image/png:https://sunrisecounty.org/wp-content/uploads/2025/09/SCEC-Summit-SaveTheDate-FINAL.png
END:VEVENT
BEGIN:VEVENT
DTSTART;TZID=America/New_York:20241016T100000
DTEND;TZID=America/New_York:20241016T143000
DTSTAMP:20260424T155058
CREATED:20240802T094458Z
LAST-MODIFIED:20240802T094554Z
UID:14651-1729072800-1729089000@sunrisecounty.org
SUMMARY:SCEC 2024 Annual Economic Summit
DESCRIPTION:Sunrise County Economic Summit 2024\nPlease join us as we explore the challenges and opportunities of housing\, digital equity & the tourism economy in rural Maine.\nSave the Date! Oct 16\, 2024 10:00am – 02:30pm \nDanforth Town Hall\n52 Depot St\, Danforth\, ME 04424
URL:https://sunrisecounty.org/event/scec-2024-annual-economic-summit/
LOCATION:Danforth Town Hall\, 52 Depot Street\, Danforth\, Maine\, 04424
CATEGORIES:Business & Entrepreneurship Resources,Economic Summit,For Municipalities,For Non-Profits,Small Business Resources,Tech Assistance
ATTACH;FMTTYPE=image/png:https://sunrisecounty.org/wp-content/uploads/2024/08/unnamed-12.png
END:VEVENT
END:VCALENDAR