BEGIN:VCALENDAR
VERSION:2.0
PRODID:-//Sunrise County Economic Council - ECPv6.15.20//NONSGML v1.0//EN
CALSCALE:GREGORIAN
METHOD:PUBLISH
X-WR-CALNAME:Sunrise County Economic Council
X-ORIGINAL-URL:https://sunrisecounty.org
X-WR-CALDESC:Events for Sunrise County Economic Council
REFRESH-INTERVAL;VALUE=DURATION:PT1H
X-Robots-Tag:noindex
X-PUBLISHED-TTL:PT1H
BEGIN:VTIMEZONE
TZID:America/New_York
BEGIN:DAYLIGHT
TZOFFSETFROM:-0500
TZOFFSETTO:-0400
TZNAME:EDT
DTSTART:20240310T070000
END:DAYLIGHT
BEGIN:STANDARD
TZOFFSETFROM:-0400
TZOFFSETTO:-0500
TZNAME:EST
DTSTART:20241103T060000
END:STANDARD
BEGIN:DAYLIGHT
TZOFFSETFROM:-0500
TZOFFSETTO:-0400
TZNAME:EDT
DTSTART:20250309T070000
END:DAYLIGHT
BEGIN:STANDARD
TZOFFSETFROM:-0400
TZOFFSETTO:-0500
TZNAME:EST
DTSTART:20251102T060000
END:STANDARD
BEGIN:DAYLIGHT
TZOFFSETFROM:-0500
TZOFFSETTO:-0400
TZNAME:EDT
DTSTART:20260308T070000
END:DAYLIGHT
BEGIN:STANDARD
TZOFFSETFROM:-0400
TZOFFSETTO:-0500
TZNAME:EST
DTSTART:20261101T060000
END:STANDARD
END:VTIMEZONE
BEGIN:VEVENT
DTSTART;TZID=America/New_York:20250701T110000
DTEND;TZID=America/New_York:20250701T130000
DTSTAMP:20260423T160759
CREATED:20250609T172637Z
LAST-MODIFIED:20250609T172637Z
UID:16196-1751367600-1751374800@sunrisecounty.org
SUMMARY:Lubec Tech Support
DESCRIPTION:Do you need help with: \nRecovering your password(s)\nEmail\nAccount Recovery\nSyncing or backing up devices\nSetting up a new device\nRemote storage\nInternet access/safety\, etc.\nWe can help! \nNo reservation required. Walk-ins welcome. Sign up sheets are available at each location for your convenience. \nTech support provided by Sunrise County Economic Councill\, with support from Maine Connectivity Authority. Questions? Please call 207-255-0983. \n 
URL:https://sunrisecounty.org/event/lubec-tech-support-2/
LOCATION:Lubec Memorial Library\, 55 Water Street\, Lubec
CATEGORIES:Drop-In Hours
ATTACH;FMTTYPE=image/png:https://sunrisecounty.org/wp-content/uploads/2025/06/SCEC-Summer-Tech-Supportsmall.png
END:VEVENT
BEGIN:VEVENT
DTSTART;TZID=America/New_York:20250707T110000
DTEND;TZID=America/New_York:20250707T130000
DTSTAMP:20260423T160759
CREATED:20250609T132422Z
LAST-MODIFIED:20250609T132422Z
UID:16179-1751886000-1751893200@sunrisecounty.org
SUMMARY:Eastport Tech Support
DESCRIPTION:Do you need help with: \n\nRecovering your password(s)\nEmail\nAccount Recovery\nSyncing or backing up devices\nSetting up a new device\nRemote storage\nInternet access/safety\, etc.\n\nWe can help! \nNo reservation required. Walk-ins welcome. Sign up sheets are available at each location for your convenience. \nTech support provided by Sunrise County Economic Councill\, with support from Maine Connectivity Authority. Questions? Please call 207-255-0983.
URL:https://sunrisecounty.org/event/eastport-tech-support/
LOCATION:Peavey Memorial Library\, 22 Water Street\, Eastport\, ME\, 04631\, United States
CATEGORIES:Drop-In Hours
ATTACH;FMTTYPE=image/png:https://sunrisecounty.org/wp-content/uploads/2025/06/SCEC-Summer-Tech-Support.png
END:VEVENT
BEGIN:VEVENT
DTSTART;TZID=America/New_York:20250708T100000
DTEND;TZID=America/New_York:20250708T120000
DTSTAMP:20260423T160759
CREATED:20250609T164626Z
LAST-MODIFIED:20250609T164626Z
UID:16189-1751968800-1751976000@sunrisecounty.org
SUMMARY:Calais Tech Support
DESCRIPTION:Do you need help with: \nRecovering your password(s)\nEmail\nAccount Recovery\nSyncing or backing up devices\nSetting up a new device\nRemote storage\nInternet access/safety\, etc.\nWe can help! \nNo reservation required. Walk-ins welcome. Sign up sheets are available at each location for your convenience. \nTech support provided by Sunrise County Economic Councill\, with support from Maine Connectivity Authority. Questions? Please call 207-255-0983.
URL:https://sunrisecounty.org/event/calais-tech-support-2/
LOCATION:Calais Free Library\, 9 Union Street\, Calais\, ME\, 04619\, United States
CATEGORIES:Drop-In Hours
ATTACH;FMTTYPE=image/png:https://sunrisecounty.org/wp-content/uploads/2025/06/SCEC-Summer-Tech-Supportsmall.png
END:VEVENT
BEGIN:VEVENT
DTSTART;TZID=America/New_York:20250715T110000
DTEND;TZID=America/New_York:20250715T130000
DTSTAMP:20260423T160759
CREATED:20250609T172830Z
LAST-MODIFIED:20250609T172830Z
UID:16198-1752577200-1752584400@sunrisecounty.org
SUMMARY:Lubec Tech Support
DESCRIPTION:Do you need help with: \nRecovering your password(s)\nEmail\nAccount Recovery\nSyncing or backing up devices\nSetting up a new device\nRemote storage\nInternet access/safety\, etc.\nWe can help! \nNo reservation required. Walk-ins welcome. Sign up sheets are available at each location for your convenience. \nTech support provided by Sunrise County Economic Councill\, with support from Maine Connectivity Authority. Questions? Please call 207-255-0983. \n 
URL:https://sunrisecounty.org/event/lubec-tech-support-3/
LOCATION:Lubec Memorial Library\, 55 Water Street\, Lubec
CATEGORIES:Drop-In Hours
ATTACH;FMTTYPE=image/png:https://sunrisecounty.org/wp-content/uploads/2025/06/SCEC-Summer-Tech-Supportsmall.png
END:VEVENT
END:VCALENDAR