BEGIN:VCALENDAR
VERSION:2.0
PRODID:-//Sunrise County Economic Council - ECPv6.15.20//NONSGML v1.0//EN
CALSCALE:GREGORIAN
METHOD:PUBLISH
X-WR-CALNAME:Sunrise County Economic Council
X-ORIGINAL-URL:https://sunrisecounty.org
X-WR-CALDESC:Events for Sunrise County Economic Council
REFRESH-INTERVAL;VALUE=DURATION:PT1H
X-Robots-Tag:noindex
X-PUBLISHED-TTL:PT1H
BEGIN:VTIMEZONE
TZID:America/New_York
BEGIN:DAYLIGHT
TZOFFSETFROM:-0500
TZOFFSETTO:-0400
TZNAME:EDT
DTSTART:20240310T070000
END:DAYLIGHT
BEGIN:STANDARD
TZOFFSETFROM:-0400
TZOFFSETTO:-0500
TZNAME:EST
DTSTART:20241103T060000
END:STANDARD
BEGIN:DAYLIGHT
TZOFFSETFROM:-0500
TZOFFSETTO:-0400
TZNAME:EDT
DTSTART:20250309T070000
END:DAYLIGHT
BEGIN:STANDARD
TZOFFSETFROM:-0400
TZOFFSETTO:-0500
TZNAME:EST
DTSTART:20251102T060000
END:STANDARD
BEGIN:DAYLIGHT
TZOFFSETFROM:-0500
TZOFFSETTO:-0400
TZNAME:EDT
DTSTART:20260308T070000
END:DAYLIGHT
BEGIN:STANDARD
TZOFFSETFROM:-0400
TZOFFSETTO:-0500
TZNAME:EST
DTSTART:20261101T060000
END:STANDARD
BEGIN:DAYLIGHT
TZOFFSETFROM:-0500
TZOFFSETTO:-0400
TZNAME:EDT
DTSTART:20270314T070000
END:DAYLIGHT
BEGIN:STANDARD
TZOFFSETFROM:-0400
TZOFFSETTO:-0500
TZNAME:EST
DTSTART:20271107T060000
END:STANDARD
END:VTIMEZONE
BEGIN:VEVENT
DTSTART;TZID=America/New_York:20250424T100000
DTEND;TZID=America/New_York:20250424T130000
DTSTAMP:20260423T144744
CREATED:20250203T203240Z
LAST-MODIFIED:20250213T193545Z
UID:15587-1745488800-1745499600@sunrisecounty.org
SUMMARY:Calais Community Connections: Jobs\, Resources\, and Family Fun Fairs
DESCRIPTION:We’re thrilled to invite you to the Community Connections: Jobs\, Resources\, and Family Fun Fairs—exciting events where you can connectwith local talent\, showcase your organization\, and engage with the community in a meaningful way! \nEvent Details:\nCalais Fair\nDate: Thursday\, April 24\, 2025\nTime: 10:00 AM – 1:00 PM\nLocation: Washington County Community College Gym \nWhy Participate?\nRecruit Talent: Meet eager job seekers ready to explore your opportunities!\nIncrease Visibility: Show how your organization is making a difference.\nBuild Connections: Network with fellow employers\, community leaders\, and partners.\nEngage with the Community: Join a fun\, family-friendly event that brings everyone together! \nHow to Register:\nFor any questions\, feel free to reach out to me at demerson@sunrisecounty.org or 207-271-2132. \nWe can’t wait to see you there and work together to make a lasting impact on our community!
URL:https://sunrisecounty.org/event/calais-community-connections-jobs-resources-and-family-fun-fairs/
LOCATION:Washington County Community College\, College Drive\, Calais\, ME\, 04619\, United States
CATEGORIES:Business & Entrepreneurship Resources,Educational Resources,Resource Fair,Small Business Resources
ATTACH;FMTTYPE=image/png:https://sunrisecounty.org/wp-content/uploads/2025/02/comm-connections2.png
END:VEVENT
BEGIN:VEVENT
DTSTART;TZID=America/New_York:20250430T133000
DTEND;TZID=America/New_York:20250430T143000
DTSTAMP:20260423T144744
CREATED:20250423T145641Z
LAST-MODIFIED:20250423T145641Z
UID:15924-1746019800-1746023400@sunrisecounty.org
SUMMARY:Intermediate Microsoft Excel
DESCRIPTION: Take Your Excel Skills to the Next Level! \nJoin us for a FREE Intermediate Microsoft Excel class—a 3-part series designed to boost your spreadsheet skills!\n Dates:• April 30 | 1:30–2:30 PM• May 1 | 1:30–2:30 PM• May 2 | 1:30–2:30 PM\n Location:MaineStreet Business Building19 Main Street\, Machias\nWe’ll dive into tables\, charts\, data analysis\, sorting\, formulas & functions\, and even pivot tables!\n Requirements:• Completion of Intro to Excel or equivalent experience• A computer with MS Excel 2016 or later\n Register here!\n\nQuestions or need help registering? Reach out to Dodie Emerson at demerson@sunrisecounty.org or 207-271-2132.
URL:https://sunrisecounty.org/event/intermediate-microsoft-excel/
LOCATION:MaineStreet Business Building\, 19 Main St.\, Machias\, ME\, 04619\, United States
CATEGORIES:Business & Entrepreneurship Resources,Financial Resources,Small Business Resources,Training
ATTACH;FMTTYPE=image/jpeg:https://sunrisecounty.org/wp-content/uploads/2025/04/Intermediate-Excel-Draft1-scaled.jpg
END:VEVENT
BEGIN:VEVENT
DTSTART;TZID=America/New_York:20250529T120000
DTEND;TZID=America/New_York:20250529T140000
DTSTAMP:20260423T144744
CREATED:20250513T164001Z
LAST-MODIFIED:20250513T164038Z
UID:15974-1748520000-1748527200@sunrisecounty.org
SUMMARY:Chat GPT for Your Business
DESCRIPTION:Discover how ChatGPT can help you better understand your audience\, improve your website\, and simplify your content creation process\, with Cary Weston of Sutherland Weston Marketing Communications. This workshop is designed for business owners and marketers who want straightforward\, actionable advice to enhance their marketing efforts. \nIn this session\, we’ll explore how ChatGPT can become your marketing assistant\, helping you craft content that resonates\, streamlining your messaging\, and making your marketing tasks easier to tackle. \nThis workshop is for anyone who wants to make their marketing more effective. \nLunch will be provided. \nClick here to register!
URL:https://sunrisecounty.org/event/chat-gpt-for-your-business/
LOCATION:MaineStreet Business Building\, 19 Main St.\, Machias\, ME\, 04619\, United States
CATEGORIES:Business & Entrepreneurship Resources,Small Business Resources,Training
ATTACH;FMTTYPE=image/png:https://sunrisecounty.org/wp-content/uploads/2025/05/ChatGPT-Business.png
END:VEVENT
BEGIN:VEVENT
DTSTART;TZID=America/New_York:20250715T120000
DTEND;TZID=America/New_York:20250715T130000
DTSTAMP:20260423T144744
CREATED:20250627T170315Z
LAST-MODIFIED:20250627T170347Z
UID:16282-1752580800-1752584400@sunrisecounty.org
SUMMARY:REAP Info Session
DESCRIPTION:REAP Info Session\nGrant funding for renewable energy and energy efficiency projects is available to agricultural producers\, small rural for-profit businesses\, co-ops\, and tribal businesses. Lower your energy costs\, and improve profitability! \nThe grant program supports 25% of the purchase or installation of renewable energy systems (RES) and energy efficiency improvement (EEI). Grant awards range from $1\,500 to $250\,000 for EEI projects\, and $2\,500 to $500\,000 for RES projects. \nOnly complete applications with environmental reviews will be considered in funding cycles. \nJoin the info session to learn more! \nRegister Here!
URL:https://sunrisecounty.org/event/reap-info-session/
LOCATION:Online via Zoom
CATEGORIES:Agricultural Resources,Business & Entrepreneurship Resources
ATTACH;FMTTYPE=image/jpeg:https://sunrisecounty.org/wp-content/uploads/2025/06/REAP-Banner.jpg
END:VEVENT
BEGIN:VEVENT
DTSTART;TZID=America/New_York:20251006T140000
DTEND;TZID=America/New_York:20251006T150000
DTSTAMP:20260423T144744
CREATED:20250925T164321Z
LAST-MODIFIED:20250925T164353Z
UID:16854-1759759200-1759762800@sunrisecounty.org
SUMMARY:Get to Know MaineStreet Business Building
DESCRIPTION:Get to Know MSBB\nGet to know the staff of MaineStreet Business Building and learn about the services that each provides (most at no-cost) to Washington County residents\, business owners\, and entrepreneurs! \nAvailable services include:\n– Business advising\n– Courses and workshops for small businesses\n– Technology assistance\n– Business transition services\n– Grant and loan program assistance\n– Guidance on the Washington County Recovery\n– Friendly Workplace Network\n– Help with winning federal contracts for your\nproducts or services\n– Workforce training and college credit \nRegister here!
URL:https://sunrisecounty.org/event/get-to-know-mainestreet-business-building/
LOCATION:Online via Zoom
CATEGORIES:Business & Entrepreneurship Resources,Drop-In Hours
ATTACH;FMTTYPE=image/png:https://sunrisecounty.org/wp-content/uploads/2025/09/GetToKnowMSBB.png
ORGANIZER;CN="MaineStreet Business Building":MAILTO:info@mainestreetbusiness.org
END:VEVENT
BEGIN:VEVENT
DTSTART;TZID=America/New_York:20251018T110000
DTEND;TZID=America/New_York:20251018T150000
DTSTAMP:20260423T144744
CREATED:20251017T195902Z
LAST-MODIFIED:20251017T195902Z
UID:16978-1760785200-1760799600@sunrisecounty.org
SUMMARY:Fintastic Futures!
DESCRIPTION:
URL:https://sunrisecounty.org/event/fintastic-futures/
LOCATION:Shead High School\, 89 High Street\, Eastport\, Maine\, 04631
CATEGORIES:Agricultural Resources,Business & Entrepreneurship Resources,Community Conversations,Resource Fair,Small Business Resources
ATTACH;FMTTYPE=image/jpeg:https://sunrisecounty.org/wp-content/uploads/2025/10/unnamed-30.jpg
END:VEVENT
BEGIN:VEVENT
DTSTART;TZID=America/New_York:20251107T100000
DTEND;TZID=America/New_York:20251107T110000
DTSTAMP:20260423T144744
CREATED:20250925T164500Z
LAST-MODIFIED:20251017T194934Z
UID:16859-1762509600-1762513200@sunrisecounty.org
SUMMARY:Ask Us Anything About Business
DESCRIPTION:Ask Us Anything About Business\nJoin the MSBB team for an open Q&A where you can ask us anything about business! We will do our best to answer your business questions\, or refer you to someone who can help. \nThis webinar is open to all\, whether you are an established business owner or an aspiring entrepreneur! \nRegister here! 
URL:https://sunrisecounty.org/event/ask-us-anything-about-business/
LOCATION:Online via Zoom
CATEGORIES:Business & Entrepreneurship Resources,Drop-In Hours
ATTACH;FMTTYPE=image/png:https://sunrisecounty.org/wp-content/uploads/2025/09/CC-Event-Banners-_6_.png
ORGANIZER;CN="MaineStreet Business Building":MAILTO:info@mainestreetbusiness.org
END:VEVENT
BEGIN:VEVENT
DTSTART;TZID=America/New_York:20260128T110000
DTEND;TZID=America/New_York:20260128T130000
DTSTAMP:20260423T144744
CREATED:20251222T041625Z
LAST-MODIFIED:20251222T041625Z
UID:17380-1769598000-1769605200@sunrisecounty.org
SUMMARY:Every Workplace Counts: Supporting Recovery Friendly Entrepreneurs and Small Businesses
DESCRIPTION:Whether you run a business of one\, a growing team\, or something in between\, your workplace matters—and you belong here. This 90-minute virtual session (and 30 minute Q&A) is designed for entrepreneurs\, self-employed professionals\, and small business owners who want practical tools\, real conversation\, and people-first approaches that fit the realities of small operations. \nTogether\, we’ll explore what it means to create a healthy\, supportive\, and recovery-friendly workplace at any size—how to take care of yourself\, your people\, and your business at the same time. \nBy the end of the session\, you’ll have the option to take the next step and become officially designated as a Recovery Friendly Workplace (RFW).
URL:https://sunrisecounty.org/event/every-workplace-counts-supporting-recovery-friendly-entrepreneurs-and-small-businesses/
CATEGORIES:Business & Entrepreneurship Resources,Online Webinars,Small Business Resources
ATTACH;FMTTYPE=image/png:https://sunrisecounty.org/wp-content/uploads/2025/12/EveryWorkplace-Social1.png
END:VEVENT
BEGIN:VEVENT
DTSTART;TZID=America/New_York:20260612T093000
DTEND;TZID=America/New_York:20260612T150000
DTSTAMP:20260423T144744
CREATED:20260417T191603Z
LAST-MODIFIED:20260417T191603Z
UID:18216-1781256600-1781276400@sunrisecounty.org
SUMMARY:Destination DownEast Tourism Conference
DESCRIPTION:The Destination DownEast Tourism Conference brings together businesses\, creators\, nonprofits\, chambers\, entrepreneurs\, municipalities\, and community leaders to strengthen the partnerships that make DownEast Acadia a premier destination for visitors from near and far. \nGet ready for the 2026 season with tools\, connections\, and strategies that are designed to help your business grow. \nLearn how to engage your audience\, expand your network\, and strengthen your bottom line.
URL:https://sunrisecounty.org/event/destination-downeast-tourism-conference/
LOCATION:University of Maine at Machias\, 116 Obrien Ave.\, Machias\, ME\, 04654
CATEGORIES:Business & Entrepreneurship Resources,For Municipalities,For Non-Profits
ATTACH;FMTTYPE=image/png:https://sunrisecounty.org/wp-content/uploads/2026/04/JUNE-12-2026-930-am-300-pm-University-of-Maine-at-Machias.png
END:VEVENT
END:VCALENDAR