BEGIN:VCALENDAR
VERSION:2.0
PRODID:-//Sunrise County Economic Council - ECPv6.15.20//NONSGML v1.0//EN
CALSCALE:GREGORIAN
METHOD:PUBLISH
X-WR-CALNAME:Sunrise County Economic Council
X-ORIGINAL-URL:https://sunrisecounty.org
X-WR-CALDESC:Events for Sunrise County Economic Council
REFRESH-INTERVAL;VALUE=DURATION:PT1H
X-Robots-Tag:noindex
X-PUBLISHED-TTL:PT1H
BEGIN:VTIMEZONE
TZID:America/New_York
BEGIN:DAYLIGHT
TZOFFSETFROM:-0500
TZOFFSETTO:-0400
TZNAME:EDT
DTSTART:20240310T070000
END:DAYLIGHT
BEGIN:STANDARD
TZOFFSETFROM:-0400
TZOFFSETTO:-0500
TZNAME:EST
DTSTART:20241103T060000
END:STANDARD
BEGIN:DAYLIGHT
TZOFFSETFROM:-0500
TZOFFSETTO:-0400
TZNAME:EDT
DTSTART:20250309T070000
END:DAYLIGHT
BEGIN:STANDARD
TZOFFSETFROM:-0400
TZOFFSETTO:-0500
TZNAME:EST
DTSTART:20251102T060000
END:STANDARD
BEGIN:DAYLIGHT
TZOFFSETFROM:-0500
TZOFFSETTO:-0400
TZNAME:EDT
DTSTART:20260308T070000
END:DAYLIGHT
BEGIN:STANDARD
TZOFFSETFROM:-0400
TZOFFSETTO:-0500
TZNAME:EST
DTSTART:20261101T060000
END:STANDARD
END:VTIMEZONE
BEGIN:VEVENT
DTSTART;TZID=America/New_York:20250715T120000
DTEND;TZID=America/New_York:20250715T130000
DTSTAMP:20260423T021226
CREATED:20250627T170315Z
LAST-MODIFIED:20250627T170347Z
UID:16282-1752580800-1752584400@sunrisecounty.org
SUMMARY:REAP Info Session
DESCRIPTION:REAP Info Session\nGrant funding for renewable energy and energy efficiency projects is available to agricultural producers\, small rural for-profit businesses\, co-ops\, and tribal businesses. Lower your energy costs\, and improve profitability! \nThe grant program supports 25% of the purchase or installation of renewable energy systems (RES) and energy efficiency improvement (EEI). Grant awards range from $1\,500 to $250\,000 for EEI projects\, and $2\,500 to $500\,000 for RES projects. \nOnly complete applications with environmental reviews will be considered in funding cycles. \nJoin the info session to learn more! \nRegister Here!
URL:https://sunrisecounty.org/event/reap-info-session/
LOCATION:Online via Zoom
CATEGORIES:Agricultural Resources,Business & Entrepreneurship Resources
ATTACH;FMTTYPE=image/jpeg:https://sunrisecounty.org/wp-content/uploads/2025/06/REAP-Banner.jpg
END:VEVENT
END:VCALENDAR