BEGIN:VCALENDAR
VERSION:2.0
PRODID:-//Sunrise County Economic Council - ECPv6.15.20//NONSGML v1.0//EN
CALSCALE:GREGORIAN
METHOD:PUBLISH
X-ORIGINAL-URL:https://sunrisecounty.org
X-WR-CALDESC:Events for Sunrise County Economic Council
REFRESH-INTERVAL;VALUE=DURATION:PT1H
X-Robots-Tag:noindex
X-PUBLISHED-TTL:PT1H
BEGIN:VTIMEZONE
TZID:America/New_York
BEGIN:DAYLIGHT
TZOFFSETFROM:-0500
TZOFFSETTO:-0400
TZNAME:EDT
DTSTART:20230312T070000
END:DAYLIGHT
BEGIN:STANDARD
TZOFFSETFROM:-0400
TZOFFSETTO:-0500
TZNAME:EST
DTSTART:20231105T060000
END:STANDARD
BEGIN:DAYLIGHT
TZOFFSETFROM:-0500
TZOFFSETTO:-0400
TZNAME:EDT
DTSTART:20240310T070000
END:DAYLIGHT
BEGIN:STANDARD
TZOFFSETFROM:-0400
TZOFFSETTO:-0500
TZNAME:EST
DTSTART:20241103T060000
END:STANDARD
BEGIN:DAYLIGHT
TZOFFSETFROM:-0500
TZOFFSETTO:-0400
TZNAME:EDT
DTSTART:20250309T070000
END:DAYLIGHT
BEGIN:STANDARD
TZOFFSETFROM:-0400
TZOFFSETTO:-0500
TZNAME:EST
DTSTART:20251102T060000
END:STANDARD
END:VTIMEZONE
BEGIN:VEVENT
DTSTART;TZID=America/New_York:20241016T100000
DTEND;TZID=America/New_York:20241016T143000
DTSTAMP:20260423T175246
CREATED:20240802T094458Z
LAST-MODIFIED:20240802T094554Z
UID:14651-1729072800-1729089000@sunrisecounty.org
SUMMARY:SCEC 2024 Annual Economic Summit
DESCRIPTION:Sunrise County Economic Summit 2024\nPlease join us as we explore the challenges and opportunities of housing\, digital equity & the tourism economy in rural Maine.\nSave the Date! Oct 16\, 2024 10:00am – 02:30pm \nDanforth Town Hall\n52 Depot St\, Danforth\, ME 04424
URL:https://sunrisecounty.org/event/scec-2024-annual-economic-summit/
LOCATION:Danforth Town Hall\, 52 Depot Street\, Danforth\, Maine\, 04424
CATEGORIES:Business & Entrepreneurship Resources,Economic Summit,For Municipalities,For Non-Profits,Small Business Resources,Tech Assistance
ATTACH;FMTTYPE=image/png:https://sunrisecounty.org/wp-content/uploads/2024/08/unnamed-12.png
END:VEVENT
BEGIN:VEVENT
DTSTART;TZID=America/New_York:20241017T140000
DTEND;TZID=America/New_York:20241017T180000
DTSTAMP:20260423T175246
CREATED:20241010T132256Z
LAST-MODIFIED:20241010T132256Z
UID:14947-1729173600-1729188000@sunrisecounty.org
SUMMARY:Business Resources and Contracting 101
DESCRIPTION:Drop in hours for Business Resources and Contracting 101. Jessica Crowley will be available to answer any questions you may have about growing your business in Downeast Maine.\n\n\n\nAlso\, as the Maine APEX Counselor at SCEC\, Jessica can help you learn more about securing federal contracts for your goods or services.\n\n\n\n\n\nFrom funding resources to technology tools you can use to propel your existing business or idea\, we will have a list of available resources ready for you.
URL:https://sunrisecounty.org/event/business-resources-and-contracting-101/
LOCATION:EMDC Office\, 248 State Street\, Suite 15A\,\, EMDC's office at 248 State St.\, Suite 15A\, ME\, 04605
CATEGORIES:Business & Entrepreneurship Resources,Drop-In Hours,Educational Resources,Tech Assistance
ATTACH;FMTTYPE=image/png:https://sunrisecounty.org/wp-content/uploads/2024/10/MSBB-after-hours-3.png
ORGANIZER;CN="MaineStreet Business Building":MAILTO:info@mainestreetbusiness.org
END:VEVENT
BEGIN:VEVENT
DTSTART;TZID=America/New_York:20241028T120000
DTEND;TZID=America/New_York:20241028T140000
DTSTAMP:20260423T175246
CREATED:20240916T153359Z
LAST-MODIFIED:20241021T194356Z
UID:14875-1730116800-1730124000@sunrisecounty.org
SUMMARY:Essential Insurance Planning for Your Business (Machias)
DESCRIPTION:Protect your business with this essential 90-minute training from Andrew Beers of Beers Agency\, LLC. In this training\, you’ll learn about:\n– Insurance/liability coverage\n– Specific workplace issues including Narcan training and having it on site\n– Property Casualty\n– Business/Personal Insurance\n– Flood Insurance\n– Workers Comp\n– Employee Protection Liability\n– Directors & Officers Liability\n– Business Interruption Insurance Endorsement\n– Rental Property Liability\n– Emerging Trends: Cyber-security\, Credit cards\, AI\, HIPAA \nLunch will be served. Q&A to follow training. \nRegister Here!
URL:https://sunrisecounty.org/event/essential-insurance-planning-for-your-business-machias/
LOCATION:MaineStreet Business Building\, 19 Main St.\, Machias\, ME\, 04619\, United States
CATEGORIES:Business & Entrepreneurship Resources,Educational Resources,Small Business Resources,Training
ATTACH;FMTTYPE=image/png:https://sunrisecounty.org/wp-content/uploads/2024/09/Essential-Insurance-Planning-for-Your-Business-e1728565655287.png
ORGANIZER;CN="Washington County Recovery Friendly Workplace Network":MAILTO:demerson@sunrisecounty.org
END:VEVENT
END:VCALENDAR